BEGIN:VCALENDAR
VERSION:2.0
PRODID:-//InvisionCommunity Events 4.7.23//EN
METHOD:PUBLISH
CALSCALE:GREGORIAN
REFRESH-INTERVAL:PT15M
X-PUBLISHED-TTL:PT15M
X-WR-CALNAME:At My TV
NAME:At My TV
BEGIN:VTIMEZONE
TZID:Europe/London
TZURL:http://tzurl.org/zoneinfo/Europe/London
X-LIC-LOCATION:Europe/London
BEGIN:DAYLIGHT
TZOFFSETFROM:+0000
TZOFFSETTO:+0100
TZNAME:BST
DTSTART:20230326T020000Z
RRULE:FREQ=YEARLY;BYMONTH=3;BYDAY=-1SU
END:DAYLIGHT
BEGIN:STANDARD
TZOFFSETFROM:+0100
TZOFFSETTO:+0000
TZNAME:GMT
DTSTART:20231029T020000Z
RRULE:FREQ=YEARLY;BYMONTH=10;BYDAY=-1SU
END:STANDARD
END:VTIMEZONE
BEGIN:VEVENT
SUMMARY:Worst Cooks in America 26x2 - Love at First Bite: That's Amo
	re
DTSTAMP:20230731T091125Z
SEQUENCE:0
UID:166952-2-841ebed20eb198c4569419e99b7bf40a@themidnightzone.com
ORGANIZER;CN="Midnight":midnight@themidnightzone.com
DESCRIPTION:Chefs Anne Burrell and Jeff Mauro introduce the recruits to 
	theclassic flavors and dishes of Italy. They start off with afast-paced ga
	me where recruits answer trivia and ridegondolas\, followed by an outrageo
	us cooking relay where theymust work in pairs to create a romantic Italian
	 picnic basket.In the Skill Drill challenge\, the singles take on sausage 
	andpepper sandwiches\, which includes making sausages fromscratch! Then in
	 the Main Dish cook\, Anne and Jeff demonstrateclassic meatballs with sauc
	e and polenta. The recruits thatsuccessfully replicate their chefs' dishes
	 continue on in bootcamp\, and the least successful bid \"arrivederci\" to
	 boot camp.
DTSTART:20230814T010000Z
DTEND:20230814T020000Z
END:VEVENT
END:VCALENDAR
