BEGIN:VCALENDAR
VERSION:2.0
PRODID:-//InvisionCommunity Events 4.7.23//EN
METHOD:PUBLISH
CALSCALE:GREGORIAN
REFRESH-INTERVAL:PT15M
X-PUBLISHED-TTL:PT15M
X-WR-CALNAME:At My TV
NAME:At My TV
BEGIN:VTIMEZONE
TZID:Europe/London
TZURL:http://tzurl.org/zoneinfo/Europe/London
X-LIC-LOCATION:Europe/London
BEGIN:DAYLIGHT
TZOFFSETFROM:+0000
TZOFFSETTO:+0100
TZNAME:BST
DTSTART:20230326T020000Z
RRULE:FREQ=YEARLY;BYMONTH=3;BYDAY=-1SU
END:DAYLIGHT
BEGIN:STANDARD
TZOFFSETFROM:+0100
TZOFFSETTO:+0000
TZNAME:GMT
DTSTART:20231029T020000Z
RRULE:FREQ=YEARLY;BYMONTH=10;BYDAY=-1SU
END:STANDARD
END:VTIMEZONE
BEGIN:VEVENT
SUMMARY:Rewind the '90s 1x3 - Teenage Dreams
DTSTAMP:20230731T091125Z
SEQUENCE:0
UID:166980-2-841ebed20eb198c4569419e99b7bf40a@themidnightzone.com
ORGANIZER;CN="Midnight":midnight@themidnightzone.com
DESCRIPTION:A new generation of teenagers with cash to spend flips thesc
	ript and molds the decade in its own image as \"TRL\" rules theairwaves\, 
	\"Scream\" redefines a genre\, \"House Party\" kicks offa dance craze\, \"
	Dawson's Creek\" gives fans all the feels\, andCher from \"Clueless\" reig
	ns as queen of the catchphrase.Whatever!
DTSTART:20230808T010000Z
DTEND:20230808T020000Z
END:VEVENT
END:VCALENDAR
