BEGIN:VCALENDAR
VERSION:2.0
PRODID:-//InvisionCommunity Events 4.7.23//EN
METHOD:PUBLISH
CALSCALE:GREGORIAN
REFRESH-INTERVAL:PT15M
X-PUBLISHED-TTL:PT15M
X-WR-CALNAME:At My TV
NAME:At My TV
BEGIN:VTIMEZONE
TZID:Europe/London
TZURL:http://tzurl.org/zoneinfo/Europe/London
X-LIC-LOCATION:Europe/London
BEGIN:DAYLIGHT
TZOFFSETFROM:+0000
TZOFFSETTO:+0100
TZNAME:BST
DTSTART:20230326T020000Z
RRULE:FREQ=YEARLY;BYMONTH=3;BYDAY=-1SU
END:DAYLIGHT
BEGIN:STANDARD
TZOFFSETFROM:+0100
TZOFFSETTO:+0000
TZNAME:GMT
DTSTART:20231029T020000Z
RRULE:FREQ=YEARLY;BYMONTH=10;BYDAY=-1SU
END:STANDARD
END:VTIMEZONE
BEGIN:VEVENT
SUMMARY:Police Interceptors 22x13 - Episode 13
DTSTAMP:20230731T091125Z
SEQUENCE:0
UID:166981-2-841ebed20eb198c4569419e99b7bf40a@themidnightzone.com
ORGANIZER;CN="Midnight":midnight@themidnightzone.com
DESCRIPTION:This high-octane episode kicks off with the interceptors in 
	hotpursuit of a Ford Kuga. After a successful sting\, the ladsabandon the 
	car and disappear into the woods. However\, the dogunit is on hand to snif
	f them out.\n\n\n\nIn Newark\, Jon and Danstop a motor suspected of being 
	stolen in a keyless theft. Theyalso discover something unsavory in one of 
	the suspects'bags.\n\n\n\nOver in Radford\, the Knife Crime Team track dow
	n ablack Astra suspected of being involved in drug dealing. Thedriver mana
	ges to give them the slip\, but Ken receives anearful from the irate passe
	nger. However\, Ken gets the lastlaugh as they discover crack in the bloke
	's sock.\n\n\n\nNathan'scopper's nose proves to be on the money as he spot
	s alate-night drink-driver. The bloke behind the wheel reeks ofbooze\, but
	 is it his car?\n\n\n\nAnd Phil Broughton stops a ropeyflatbed with an uns
	ecured load. But it turns out to be theleast of the driver's problems as P
	hil sniffs out more thanjust the loose tools in the back.
DTSTART:20230807T190000Z
DTEND:20230807T195800Z
END:VEVENT
END:VCALENDAR
