BEGIN:VCALENDAR
VERSION:2.0
PRODID:-//InvisionCommunity Events 4.7.23//EN
METHOD:PUBLISH
CALSCALE:GREGORIAN
REFRESH-INTERVAL:PT15M
X-PUBLISHED-TTL:PT15M
X-WR-CALNAME:At My TV
NAME:At My TV
BEGIN:VTIMEZONE
TZID:Europe/London
TZURL:http://tzurl.org/zoneinfo/Europe/London
X-LIC-LOCATION:Europe/London
BEGIN:DAYLIGHT
TZOFFSETFROM:+0000
TZOFFSETTO:+0100
TZNAME:BST
DTSTART:20230326T020000Z
RRULE:FREQ=YEARLY;BYMONTH=3;BYDAY=-1SU
END:DAYLIGHT
BEGIN:STANDARD
TZOFFSETFROM:+0100
TZOFFSETTO:+0000
TZNAME:GMT
DTSTART:20231029T020000Z
RRULE:FREQ=YEARLY;BYMONTH=10;BYDAY=-1SU
END:STANDARD
END:VTIMEZONE
BEGIN:VEVENT
SUMMARY:Rewind the '90s 1x2 - Comedy Rebellion
DTSTAMP:20230731T091125Z
SEQUENCE:0
UID:166998-2-841ebed20eb198c4569419e99b7bf40a@themidnightzone.com
ORGANIZER;CN="Midnight":midnight@themidnightzone.com
DESCRIPTION:From a primetime cartoon family getting into it with thepres
	ident to a show about nothing\, the 1990s tore the comedyrulebook in half.
	 The decade revitalized old icons and gaverise to bold new voices―from t
	he young Black comedians ofPhat Tuesdays to the drag queens of \"To Wong F
	oo.\" The culturallandscape was shifting\, and comedians were leading the 
	charge.
DTSTART:20230801T020000Z
DTEND:20230801T030000Z
END:VEVENT
END:VCALENDAR
