BEGIN:VCALENDAR
VERSION:2.0
PRODID:-//InvisionCommunity Events 4.7.23//EN
METHOD:PUBLISH
CALSCALE:GREGORIAN
REFRESH-INTERVAL:PT15M
X-PUBLISHED-TTL:PT15M
X-WR-CALNAME:At My TV
NAME:At My TV
BEGIN:VTIMEZONE
TZID:Europe/London
TZURL:http://tzurl.org/zoneinfo/Europe/London
X-LIC-LOCATION:Europe/London
BEGIN:DAYLIGHT
TZOFFSETFROM:+0000
TZOFFSETTO:+0100
TZNAME:BST
DTSTART:20230326T020000Z
RRULE:FREQ=YEARLY;BYMONTH=3;BYDAY=-1SU
END:DAYLIGHT
BEGIN:STANDARD
TZOFFSETFROM:+0100
TZOFFSETTO:+0000
TZNAME:GMT
DTSTART:20231029T020000Z
RRULE:FREQ=YEARLY;BYMONTH=10;BYDAY=-1SU
END:STANDARD
END:VTIMEZONE
BEGIN:VEVENT
SUMMARY:Untold 3x3 - Hall of Shame
DTSTAMP:20230801T091123Z
SEQUENCE:0
UID:167009-2-841ebed20eb198c4569419e99b7bf40a@themidnightzone.com
ORGANIZER;CN="Midnight":midnight@themidnightzone.com
DESCRIPTION:Victor Conte's name is synonymous with the biggest dopingsca
	ndal ever to rock the sports community\, ensnaring topathletes such as bas
	eball great Barry Bonds and track-and-fieldlegends Marion Jones and Tim Mo
	ntgomery. For 16 years\, Conteclaimed BALCO Laboratories\, his supplement 
	and nutritioncompany based in the Bay Area\, never dabbled in illegalperfo
	rmance-enhancing drugs. But by 2000\, he went to the darkside and became t
	he go-to guy for athletes in search ofsteroids\, fame and world records. T
	he film features interviewswith several of Conte's notable former associat
	es — includingMontgomery and the anti-doping and IRS authorities who hel
	pedsend him to prison after a 42-count indictment — who giveharrowing te
	stimony as the legend of one of sports' mostnotorious names continues to u
	nfold.
DTSTART:20230815T040000Z
DTEND:20230815T051300Z
END:VEVENT
END:VCALENDAR
