BEGIN:VCALENDAR
VERSION:2.0
PRODID:-//InvisionCommunity Events 4.7.23//EN
METHOD:PUBLISH
CALSCALE:GREGORIAN
REFRESH-INTERVAL:PT15M
X-PUBLISHED-TTL:PT15M
X-WR-CALNAME:At My TV
NAME:At My TV
BEGIN:VTIMEZONE
TZID:Europe/London
TZURL:http://tzurl.org/zoneinfo/Europe/London
X-LIC-LOCATION:Europe/London
BEGIN:DAYLIGHT
TZOFFSETFROM:+0000
TZOFFSETTO:+0100
TZNAME:BST
DTSTART:20230326T020000Z
RRULE:FREQ=YEARLY;BYMONTH=3;BYDAY=-1SU
END:DAYLIGHT
BEGIN:STANDARD
TZOFFSETFROM:+0100
TZOFFSETTO:+0000
TZNAME:GMT
DTSTART:20231029T020000Z
RRULE:FREQ=YEARLY;BYMONTH=10;BYDAY=-1SU
END:STANDARD
END:VTIMEZONE
BEGIN:VEVENT
SUMMARY:Rewind the '90s 1x6 - What Is Love?
DTSTAMP:20230801T091123Z
SEQUENCE:0
UID:167015-2-841ebed20eb198c4569419e99b7bf40a@themidnightzone.com
ORGANIZER;CN="Midnight":midnight@themidnightzone.com
DESCRIPTION:Whether it was the bromance between Beavis and Butt-Head\,ch
	ildren and their pocket-sized electronic pets\, or a littleblue pill that 
	provided millions with a new lease on sex life\,the '90s was a decade that
	 redefined love. Pedro Zamora shineda light on the experience of living wi
	th HIV\, and RuPaultaught us how to love ourselves\, both proving that lov
	e has noboundaries.
DTSTART:20230815T020000Z
DTEND:20230815T030000Z
END:VEVENT
END:VCALENDAR
