BEGIN:VCALENDAR
VERSION:2.0
PRODID:-//InvisionCommunity Events 4.7.23//EN
METHOD:PUBLISH
CALSCALE:GREGORIAN
REFRESH-INTERVAL:PT15M
X-PUBLISHED-TTL:PT15M
X-WR-CALNAME:At My TV
NAME:At My TV
BEGIN:VTIMEZONE
TZID:Europe/London
TZURL:http://tzurl.org/zoneinfo/Europe/London
X-LIC-LOCATION:Europe/London
BEGIN:DAYLIGHT
TZOFFSETFROM:+0000
TZOFFSETTO:+0100
TZNAME:BST
DTSTART:20230326T020000Z
RRULE:FREQ=YEARLY;BYMONTH=3;BYDAY=-1SU
END:DAYLIGHT
BEGIN:STANDARD
TZOFFSETFROM:+0100
TZOFFSETTO:+0000
TZNAME:GMT
DTSTART:20231029T020000Z
RRULE:FREQ=YEARLY;BYMONTH=10;BYDAY=-1SU
END:STANDARD
END:VTIMEZONE
BEGIN:VEVENT
SUMMARY:Stars on Mars 1x10 - Downward Dog
DTSTAMP:20230801T091123Z
SEQUENCE:0
UID:167020-2-841ebed20eb198c4569419e99b7bf40a@themidnightzone.com
ORGANIZER;CN="Midnight":midnight@themidnightzone.com
DESCRIPTION:It's Day 15 of the Mars social experiment\, and the 7 remain
	ingcelebronauts have yet another problem to deal with: the hab'shouse pet\
	, RADDOG\, has run away. The crew's mission is tolocate and recover the mi
	ssing dog. This mission tests thecontestants bravery and will earn them an
	other mission patch.Find out who will be deemed not mission critical.
DTSTART:20230815T000000Z
DTEND:20230815T010000Z
END:VEVENT
END:VCALENDAR
