BEGIN:VCALENDAR
VERSION:2.0
PRODID:-//InvisionCommunity Events 4.7.23//EN
METHOD:PUBLISH
CALSCALE:GREGORIAN
REFRESH-INTERVAL:PT15M
X-PUBLISHED-TTL:PT15M
X-WR-CALNAME:At My TV
NAME:At My TV
BEGIN:VTIMEZONE
TZID:Europe/London
TZURL:http://tzurl.org/zoneinfo/Europe/London
X-LIC-LOCATION:Europe/London
BEGIN:DAYLIGHT
TZOFFSETFROM:+0000
TZOFFSETTO:+0100
TZNAME:BST
DTSTART:20230326T020000Z
RRULE:FREQ=YEARLY;BYMONTH=3;BYDAY=-1SU
END:DAYLIGHT
BEGIN:STANDARD
TZOFFSETFROM:+0100
TZOFFSETTO:+0000
TZNAME:GMT
DTSTART:20231029T020000Z
RRULE:FREQ=YEARLY;BYMONTH=10;BYDAY=-1SU
END:STANDARD
END:VTIMEZONE
BEGIN:VEVENT
SUMMARY:Recipe for Disaster 1x4 - Parisian Tourist Trap
DTSTAMP:20230808T091120Z
SEQUENCE:0
UID:167341-2-841ebed20eb198c4569419e99b7bf40a@themidnightzone.com
ORGANIZER;CN="Midnight":midnight@themidnightzone.com
DESCRIPTION:Three new teams of chefs and buddies compete to makefantasti
	que dishes while navigating Parisian tourist traps. TheCity of Love may be
	 known for its mimes\, art and pastries butthis competition is no vacation
	. Host\, Ann Pornell andculinary experts\, Eden Grinshpan and Chef Shahir 
	Massoud judgetheir French-inspired cuisine and crown the Masters ofDisaste
	r.
DTSTART:20230813T013000Z
DTEND:20230813T020000Z
END:VEVENT
END:VCALENDAR
