BEGIN:VCALENDAR
VERSION:2.0
PRODID:-//InvisionCommunity Events 4.7.23//EN
METHOD:PUBLISH
CALSCALE:GREGORIAN
REFRESH-INTERVAL:PT15M
X-PUBLISHED-TTL:PT15M
X-WR-CALNAME:At My TV
NAME:At My TV
BEGIN:VTIMEZONE
TZID:Europe/London
TZURL:http://tzurl.org/zoneinfo/Europe/London
X-LIC-LOCATION:Europe/London
BEGIN:DAYLIGHT
TZOFFSETFROM:+0000
TZOFFSETTO:+0100
TZNAME:BST
DTSTART:20230326T020000Z
RRULE:FREQ=YEARLY;BYMONTH=3;BYDAY=-1SU
END:DAYLIGHT
BEGIN:STANDARD
TZOFFSETFROM:+0100
TZOFFSETTO:+0000
TZNAME:GMT
DTSTART:20231029T020000Z
RRULE:FREQ=YEARLY;BYMONTH=10;BYDAY=-1SU
END:STANDARD
END:VTIMEZONE
BEGIN:VEVENT
SUMMARY:Recipe for Disaster 1x3 - Way-Too-Fun Fair
DTSTAMP:20230808T091120Z
SEQUENCE:0
UID:167342-2-841ebed20eb198c4569419e99b7bf40a@themidnightzone.com
ORGANIZER;CN="Midnight":midnight@themidnightzone.com
DESCRIPTION:Three new teams of chefs and cooking buddies compete to crea
	tecarnival delights at a way-too-fun fair. They'll be bombardedwith balloo
	ns\, tortured with treats and take an unforgettableride on the 'Spilt-A-Wh
	irl'. Host Ann Pornell and culinaryexperts\, Eden Grinshpan and Chef Shahi
	r Massoud judge theircrowd-pleasing creations and crown the Masters of Dis
	aster.
DTSTART:20230813T010000Z
DTEND:20230813T013000Z
END:VEVENT
END:VCALENDAR
