BEGIN:VCALENDAR
VERSION:2.0
PRODID:-//InvisionCommunity Events 4.7.23//EN
METHOD:PUBLISH
CALSCALE:GREGORIAN
REFRESH-INTERVAL:PT15M
X-PUBLISHED-TTL:PT15M
X-WR-CALNAME:Pogdesign
NAME:Pogdesign
BEGIN:VTIMEZONE
TZID:Europe/London
TZURL:http://tzurl.org/zoneinfo/Europe/London
X-LIC-LOCATION:Europe/London
BEGIN:DAYLIGHT
TZOFFSETFROM:+0000
TZOFFSETTO:+0100
TZNAME:BST
DTSTART:20230326T020000Z
RRULE:FREQ=YEARLY;BYMONTH=3;BYDAY=-1SU
END:DAYLIGHT
BEGIN:STANDARD
TZOFFSETFROM:+0100
TZOFFSETTO:+0000
TZNAME:GMT
DTSTART:20231029T020000Z
RRULE:FREQ=YEARLY;BYMONTH=10;BYDAY=-1SU
END:STANDARD
END:VTIMEZONE
BEGIN:VEVENT
SUMMARY:Guy's Grocery Games S34E04 - \nAll-Star Invitational\, Part 
	3
DTSTAMP:20230817T052005Z
SEQUENCE:0
UID:167665-3-841ebed20eb198c4569419e99b7bf40a@themidnightzone.com
ORGANIZER;CN="Midnight":midnight@themidnightzone.com
DESCRIPTION:In week three of the all-star invitational tournament\, GuyF
	ieri challenges the remaining chefs with wildly unpredictablegames of chan
	ce. After a food wheel determines the type of dishthey must make\, the che
	fs race off in search of their grocerycarts\, each of which features a man
	datory ingredient designedto make their challenge even tougher. The all-st
	ar with thebest dish wins \,000\, while the bottom two chefs fight forthei
	r survival in the checkout round. The chef who makes thebest steakhouse di
	nner - despite the restrictions dictated bythe dreaded food pyramid - will
	 stay in the tournament.
DTSTART:20230830T210000Z
DTEND:20230830T213000Z
END:VEVENT
END:VCALENDAR
