BEGIN:VCALENDAR
VERSION:2.0
PRODID:-//InvisionCommunity Events 4.7.23//EN
METHOD:PUBLISH
CALSCALE:GREGORIAN
REFRESH-INTERVAL:PT15M
X-PUBLISHED-TTL:PT15M
X-WR-CALNAME:At My TV
NAME:At My TV
BEGIN:VTIMEZONE
TZID:Europe/London
TZURL:http://tzurl.org/zoneinfo/Europe/London
X-LIC-LOCATION:Europe/London
BEGIN:DAYLIGHT
TZOFFSETFROM:+0000
TZOFFSETTO:+0100
TZNAME:BST
DTSTART:20230326T020000Z
RRULE:FREQ=YEARLY;BYMONTH=3;BYDAY=-1SU
END:DAYLIGHT
BEGIN:STANDARD
TZOFFSETFROM:+0100
TZOFFSETTO:+0000
TZNAME:GMT
DTSTART:20231029T020000Z
RRULE:FREQ=YEARLY;BYMONTH=10;BYDAY=-1SU
END:STANDARD
END:VTIMEZONE
BEGIN:VEVENT
SUMMARY:The Masked Singer 10x2 - NFL Night
DTSTAMP:20230914T091111Z
SEQUENCE:0
UID:168813-2-841ebed20eb198c4569419e99b7bf40a@themidnightzone.com
ORGANIZER;CN="Midnight":midnight@themidnightzone.com
DESCRIPTION:The Masked Singer celebrates its milestone 10th season as th
	elegacy continues with an all-new format with three incrediblegroups and s
	pecial Battle Royale semi-final episodes. Withsixteen total celebrity sing
	ers\, season ten boasts amazinglyintricate new costumes including \"Donut\
	,\" \"Anteater\,\"\"Hawk\,\" \"Hibiscus\,\" \"Rubber Ducky\,\" \"Cow\,\" \
	"Diver\,\"\"Gazelle\" and a life-size \"S'More!\" Tonight's episodecelebra
	tes the NFL\, and all songs featured in this episodehave been performed at
	 the Super Bowl.\n\n\n\n 
DTSTART:20231005T000000Z
DTEND:20231005T010000Z
END:VEVENT
END:VCALENDAR
