BEGIN:VCALENDAR
VERSION:2.0
PRODID:-//InvisionCommunity Events 4.7.23//EN
METHOD:PUBLISH
CALSCALE:GREGORIAN
REFRESH-INTERVAL:PT15M
X-PUBLISHED-TTL:PT15M
X-WR-CALNAME:At My TV
NAME:At My TV
BEGIN:VTIMEZONE
TZID:Europe/London
TZURL:http://tzurl.org/zoneinfo/Europe/London
X-LIC-LOCATION:Europe/London
BEGIN:DAYLIGHT
TZOFFSETFROM:+0000
TZOFFSETTO:+0100
TZNAME:BST
DTSTART:20230326T020000Z
RRULE:FREQ=YEARLY;BYMONTH=3;BYDAY=-1SU
END:DAYLIGHT
BEGIN:STANDARD
TZOFFSETFROM:+0100
TZOFFSETTO:+0000
TZNAME:GMT
DTSTART:20231029T020000Z
RRULE:FREQ=YEARLY;BYMONTH=10;BYDAY=-1SU
END:STANDARD
END:VTIMEZONE
BEGIN:VEVENT
SUMMARY:Secret Celebrity Renovation 3x8 - Elle King
DTSTAMP:20230914T091111Z
SEQUENCE:0
UID:168820-2-841ebed20eb198c4569419e99b7bf40a@themidnightzone.com
ORGANIZER;CN="Midnight":midnight@themidnightzone.com
DESCRIPTION:Grammy-nominated singer-songwriter Elle King returns to herr
	oots to surprise her \"Pawpaw\,\" who has always been herbiggest fan\, wit
	h a transformation of the Wellston\, Ohio homehe has lived in for nearly 5
	0 years. During a break from therenovation\, Elle takes the team to Rowdy'
	s Smokehouse wherethe whole town is eagerly waiting for a special performa
	ncefrom the country superstar.
DTSTART:20230930T000000Z
DTEND:20230930T010000Z
END:VEVENT
END:VCALENDAR
