BEGIN:VCALENDAR
VERSION:2.0
PRODID:-//InvisionCommunity Events 4.7.23//EN
METHOD:PUBLISH
CALSCALE:GREGORIAN
REFRESH-INTERVAL:PT15M
X-PUBLISHED-TTL:PT15M
X-WR-CALNAME:At My TV
NAME:At My TV
BEGIN:VTIMEZONE
TZID:Europe/London
TZURL:http://tzurl.org/zoneinfo/Europe/London
X-LIC-LOCATION:Europe/London
BEGIN:DAYLIGHT
TZOFFSETFROM:+0000
TZOFFSETTO:+0100
TZNAME:BST
DTSTART:20230326T020000Z
RRULE:FREQ=YEARLY;BYMONTH=3;BYDAY=-1SU
END:DAYLIGHT
BEGIN:STANDARD
TZOFFSETFROM:+0100
TZOFFSETTO:+0000
TZNAME:GMT
DTSTART:20231029T020000Z
RRULE:FREQ=YEARLY;BYMONTH=10;BYDAY=-1SU
END:STANDARD
END:VTIMEZONE
BEGIN:VEVENT
SUMMARY:Sherri 2x3 - Julie Chen Moonves\, Brian Austin Green
DTSTAMP:20230916T091111Z
SEQUENCE:0
UID:168927-2-841ebed20eb198c4569419e99b7bf40a@themidnightzone.com
ORGANIZER;CN="Midnight":midnight@themidnightzone.com
DESCRIPTION:Sherri gives her hilarious take on the current headlines!\"B
	igBrother\" host Julie Chen Moonves tells Sherri all about herrevealing\, 
	new audio memoir of spiritual discovery\, \"ButFirst\, God.\"Actor Brian A
	ustin Green tells us about the secondseason of the reality series\, \"Spec
	ial Forces: World'sToughest Test\" on FOX\, and what it was like going hea
	d-to-headwith Blac Chyna\, Jack Osbourne\, Tara Reid\, JoJo Siwa andother 
	celebrity recruits.Plus\, a Sherri superfan gets thechance to play for a c
	ash giveaway!
DTSTART:20230920T140000Z
DTEND:20230920T150000Z
END:VEVENT
END:VCALENDAR
