BEGIN:VCALENDAR
VERSION:2.0
PRODID:-//InvisionCommunity Events 4.7.23//EN
METHOD:PUBLISH
CALSCALE:GREGORIAN
REFRESH-INTERVAL:PT15M
X-PUBLISHED-TTL:PT15M
X-WR-CALNAME:At My TV
NAME:At My TV
BEGIN:VTIMEZONE
TZID:Europe/London
TZURL:http://tzurl.org/zoneinfo/Europe/London
X-LIC-LOCATION:Europe/London
BEGIN:DAYLIGHT
TZOFFSETFROM:+0000
TZOFFSETTO:+0100
TZNAME:BST
DTSTART:20230326T020000Z
RRULE:FREQ=YEARLY;BYMONTH=3;BYDAY=-1SU
END:DAYLIGHT
BEGIN:STANDARD
TZOFFSETFROM:+0100
TZOFFSETTO:+0000
TZNAME:GMT
DTSTART:20231029T020000Z
RRULE:FREQ=YEARLY;BYMONTH=10;BYDAY=-1SU
END:STANDARD
END:VTIMEZONE
BEGIN:VEVENT
SUMMARY:Girl Meets Farm 13x13 - Beet Harvest Bash
DTSTAMP:20230918T091110Z
SEQUENCE:0
UID:169000-2-841ebed20eb198c4569419e99b7bf40a@themidnightzone.com
ORGANIZER;CN="Midnight":midnight@themidnightzone.com
DESCRIPTION:It's the end of beet harvest season\, and Molly Yeh has tons
	 offood in store for the farmers. She whips up her cozy Chorizoand Tot Bre
	akfast Burritos drizzled with ranch\, mouthwateringGiant Sausage Pasta ooz
	ing with cheese and a citrusy ShavedFennel Salad. For dessert\, her celebr
	atory Beet Red-ish VelvetCake with Cream Cheese Frosting is truly unBEET-A
	BLE!
DTSTART:20231001T150000Z
DTEND:20231001T153000Z
END:VEVENT
END:VCALENDAR
