BEGIN:VCALENDAR
VERSION:2.0
PRODID:-//InvisionCommunity Events 4.7.23//EN
METHOD:PUBLISH
CALSCALE:GREGORIAN
REFRESH-INTERVAL:PT15M
X-PUBLISHED-TTL:PT15M
X-WR-CALNAME:At My TV
NAME:At My TV
BEGIN:VTIMEZONE
TZID:Europe/London
TZURL:http://tzurl.org/zoneinfo/Europe/London
X-LIC-LOCATION:Europe/London
BEGIN:DAYLIGHT
TZOFFSETFROM:+0000
TZOFFSETTO:+0100
TZNAME:BST
DTSTART:20230326T020000Z
RRULE:FREQ=YEARLY;BYMONTH=3;BYDAY=-1SU
END:DAYLIGHT
BEGIN:STANDARD
TZOFFSETFROM:+0100
TZOFFSETTO:+0000
TZNAME:GMT
DTSTART:20231029T020000Z
RRULE:FREQ=YEARLY;BYMONTH=10;BYDAY=-1SU
END:STANDARD
END:VTIMEZONE
BEGIN:VEVENT
SUMMARY:Married at First Sight UK 8x5 - Episode 5
DTSTAMP:20230924T091109Z
SEQUENCE:0
UID:169276-2-841ebed20eb198c4569419e99b7bf40a@themidnightzone.com
ORGANIZER;CN="Midnight":midnight@themidnightzone.com
DESCRIPTION:A new group of singletons put their hopes of future happines
	sin the hands of relationship experts Paul C Brunson\, MelSchilling and Ch
	arlene Douglas as four more single people agreeto marry a stranger. While 
	one couple believe their match waswritten in the stars\, the other pair di
	scover that they haveworryingly different lifestyles - can they find enoug
	h commonground to make their marriage work?
DTSTART:20230925T200000Z
DTEND:20230925T210400Z
END:VEVENT
END:VCALENDAR
