BEGIN:VCALENDAR
VERSION:2.0
PRODID:-//InvisionCommunity Events 4.7.23//EN
METHOD:PUBLISH
CALSCALE:GREGORIAN
REFRESH-INTERVAL:PT15M
X-PUBLISHED-TTL:PT15M
X-WR-CALNAME:At My TV
NAME:At My TV
BEGIN:VTIMEZONE
TZID:Europe/London
TZURL:http://tzurl.org/zoneinfo/Europe/London
X-LIC-LOCATION:Europe/London
BEGIN:DAYLIGHT
TZOFFSETFROM:+0000
TZOFFSETTO:+0100
TZNAME:BST
DTSTART:20230326T020000Z
RRULE:FREQ=YEARLY;BYMONTH=3;BYDAY=-1SU
END:DAYLIGHT
BEGIN:STANDARD
TZOFFSETFROM:+0100
TZOFFSETTO:+0000
TZNAME:GMT
DTSTART:20231029T020000Z
RRULE:FREQ=YEARLY;BYMONTH=10;BYDAY=-1SU
END:STANDARD
END:VTIMEZONE
BEGIN:VEVENT
SUMMARY:Dancing with the Stars 32x3 - Motown Night
DTSTAMP:20230927T091108Z
SEQUENCE:0
UID:169354-2-841ebed20eb198c4569419e99b7bf40a@themidnightzone.com
ORGANIZER;CN="Midnight":midnight@themidnightzone.com
DESCRIPTION:The judges said \"I Want You Back\" to the 12 remaining coup
	les\,and now it's time for them to move and groove on the ballroomfloor wi
	th all-new dances showing off their soulful side. \"GoodMorning America\" 
	co-anchor Michael Strahan sits in at thejudges table. Get \"ready for a br
	and-new beat\" with an openingnumber to \"Dancing In the Street\" by Marth
	a Reeves &amp\; TheVandellas\, choreographed by Jamal Sims\, with partner 
	dancesincluding the Cha Cha\, Foxtrot\, Jive\, Quickstep\, Rumba orTango.
DTSTART:20231011T000000Z
DTEND:20231011T020000Z
END:VEVENT
END:VCALENDAR
