BEGIN:VCALENDAR
VERSION:2.0
PRODID:-//InvisionCommunity Events 4.7.23//EN
METHOD:PUBLISH
CALSCALE:GREGORIAN
REFRESH-INTERVAL:PT15M
X-PUBLISHED-TTL:PT15M
X-WR-CALNAME:Pogdesign
NAME:Pogdesign
BEGIN:VTIMEZONE
TZID:Europe/London
TZURL:http://tzurl.org/zoneinfo/Europe/London
X-LIC-LOCATION:Europe/London
BEGIN:DAYLIGHT
TZOFFSETFROM:+0000
TZOFFSETTO:+0100
TZNAME:BST
DTSTART:20230326T020000Z
RRULE:FREQ=YEARLY;BYMONTH=3;BYDAY=-1SU
END:DAYLIGHT
BEGIN:STANDARD
TZOFFSETFROM:+0100
TZOFFSETTO:+0000
TZNAME:GMT
DTSTART:20231029T020000Z
RRULE:FREQ=YEARLY;BYMONTH=10;BYDAY=-1SU
END:STANDARD
END:VTIMEZONE
BEGIN:VEVENT
SUMMARY:Guy's Grocery Games S34E09 - \nAll-Star Teaching Teams
DTSTAMP:20230928T052005Z
SEQUENCE:0
UID:169421-3-841ebed20eb198c4569419e99b7bf40a@themidnightzone.com
ORGANIZER;CN="Midnight":midnight@themidnightzone.com
DESCRIPTION:Three of GGG's favorite all-star chefs team up with a teache
	rwho has made a difference in their lives in order to thank themfor all th
	ey've done. First\, Guy Fieri has these teacher/chefduos make an elevated 
	kid's dinner using only the ingredientsthey can fit inside a lunchbox\, in
	cluding the classic lunchsnacks already packed! Then\, the teams must make
	 a teacherappreciation dinner on a  budget\, plus whatever extra moneythey
	 can win answering pop quiz questions. The top of the classwill earn their
	 teacher the ultimate thank-you gift - up to\,000 in cash!
DTSTART:20231011T210000Z
DTEND:20231011T213000Z
END:VEVENT
END:VCALENDAR
