BEGIN:VCALENDAR
VERSION:2.0
PRODID:-//InvisionCommunity Events 4.7.23//EN
METHOD:PUBLISH
CALSCALE:GREGORIAN
REFRESH-INTERVAL:PT15M
X-PUBLISHED-TTL:PT15M
X-WR-CALNAME:At My TV
NAME:At My TV
BEGIN:VTIMEZONE
TZID:Europe/London
TZURL:http://tzurl.org/zoneinfo/Europe/London
X-LIC-LOCATION:Europe/London
BEGIN:DAYLIGHT
TZOFFSETFROM:+0000
TZOFFSETTO:+0100
TZNAME:BST
DTSTART:20230326T020000Z
RRULE:FREQ=YEARLY;BYMONTH=3;BYDAY=-1SU
END:DAYLIGHT
BEGIN:STANDARD
TZOFFSETFROM:+0100
TZOFFSETTO:+0000
TZNAME:GMT
DTSTART:20231029T020000Z
RRULE:FREQ=YEARLY;BYMONTH=10;BYDAY=-1SU
END:STANDARD
END:VTIMEZONE
BEGIN:VEVENT
SUMMARY:The Pioneer Woman 36x5 - Short and Sweet
DTSTAMP:20231001T091107Z
SEQUENCE:0
UID:169573-2-841ebed20eb198c4569419e99b7bf40a@themidnightzone.com
ORGANIZER;CN="Midnight":midnight@themidnightzone.com
DESCRIPTION:Ree Drummond makes super-fast sweets with easy shortcuts whi
	leLadd and his crew are hauling hay in the sunshine. There's ashowstopping
	 Layered Tiramisu Cake that's perfect for easyentertaining and a simply st
	unning Sticky Bun Crinkle Cakethat's a spin on a classic Tarte Tatin. Next
	 is a charmingCherry Chocolate Mug Cake for a solo treat followed byfabulo
	us\, fruity\, frozen Blackberry Lemon Ice Cream.
DTSTART:20231014T140000Z
DTEND:20231014T143000Z
END:VEVENT
END:VCALENDAR
