BEGIN:VCALENDAR
VERSION:2.0
PRODID:-//InvisionCommunity Events 4.7.23//EN
METHOD:PUBLISH
CALSCALE:GREGORIAN
REFRESH-INTERVAL:PT15M
X-PUBLISHED-TTL:PT15M
X-WR-CALNAME:At My TV
NAME:At My TV
BEGIN:VTIMEZONE
TZID:Europe/London
TZURL:http://tzurl.org/zoneinfo/Europe/London
X-LIC-LOCATION:Europe/London
BEGIN:DAYLIGHT
TZOFFSETFROM:+0000
TZOFFSETTO:+0100
TZNAME:BST
DTSTART:20230326T020000Z
RRULE:FREQ=YEARLY;BYMONTH=3;BYDAY=-1SU
END:DAYLIGHT
BEGIN:STANDARD
TZOFFSETFROM:+0100
TZOFFSETTO:+0000
TZNAME:GMT
DTSTART:20231029T020000Z
RRULE:FREQ=YEARLY;BYMONTH=10;BYDAY=-1SU
END:STANDARD
END:VTIMEZONE
BEGIN:VEVENT
SUMMARY:NOVA 50x13 - Ancient Earth: Life Rising
DTSTAMP:20231006T091106Z
SEQUENCE:0
UID:169862-2-841ebed20eb198c4569419e99b7bf40a@themidnightzone.com
ORGANIZER;CN="Midnight":midnight@themidnightzone.com
DESCRIPTION:For billions of years\, life teemed in the oceans of planetE
	arth while the land was desolate and inhospitable. So how didlife make the
	 leap to land? Scientists explore how some of theearliest life emerged and
	 invaded a barren\, rocky landscape\,eventually transforming it into a ver
	dant\, green world.Gripping visual effects reveal an alien landscape domin
	ated bytowering fungi before the arrival of plants. Witness how thefirst p
	lants made landfall and partnered with fungi to createsoil that would sust
	ain them. And discover how\, once lifeemerged on land\, it fundamentally a
	ltered the very ground itgrew on.
DTSTART:20231019T010000Z
DTEND:20231019T020000Z
END:VEVENT
END:VCALENDAR
