BEGIN:VCALENDAR
VERSION:2.0
PRODID:-//InvisionCommunity Events 4.7.23//EN
METHOD:PUBLISH
CALSCALE:GREGORIAN
REFRESH-INTERVAL:PT15M
X-PUBLISHED-TTL:PT15M
X-WR-CALNAME:At My TV
NAME:At My TV
BEGIN:VTIMEZONE
TZID:Europe/London
TZURL:http://tzurl.org/zoneinfo/Europe/London
X-LIC-LOCATION:Europe/London
BEGIN:DAYLIGHT
TZOFFSETFROM:+0000
TZOFFSETTO:+0100
TZNAME:BST
DTSTART:20230326T020000Z
RRULE:FREQ=YEARLY;BYMONTH=3;BYDAY=-1SU
END:DAYLIGHT
BEGIN:STANDARD
TZOFFSETFROM:+0100
TZOFFSETTO:+0000
TZNAME:GMT
DTSTART:20231029T020000Z
RRULE:FREQ=YEARLY;BYMONTH=10;BYDAY=-1SU
END:STANDARD
END:VTIMEZONE
BEGIN:VEVENT
SUMMARY:The UnXplained 6x3 - Secrets of Ancient Structures
DTSTAMP:20231007T091106Z
SEQUENCE:0
UID:169928-2-841ebed20eb198c4569419e99b7bf40a@themidnightzone.com
ORGANIZER;CN="Midnight":midnight@themidnightzone.com
DESCRIPTION:Scattered across the globe lie mysterious ruins that are bur
	iedin sand-swept deserts\, perched atop towering mountains\, andshrouded i
	n the heart of dense jungles. These age-oldstructures stand as silent sent
	inels from the past\, their truehistory seemingly erased by time. Can mode
	rn archaeologyunravel the enigma of how--and why--these wonders were built
	?
DTSTART:20231021T010000Z
DTEND:20231021T020000Z
END:VEVENT
END:VCALENDAR
