BEGIN:VCALENDAR
VERSION:2.0
PRODID:-//InvisionCommunity Events 4.7.23//EN
METHOD:PUBLISH
CALSCALE:GREGORIAN
REFRESH-INTERVAL:PT15M
X-PUBLISHED-TTL:PT15M
X-WR-CALNAME:At My TV
NAME:At My TV
BEGIN:VTIMEZONE
TZID:Europe/London
TZURL:http://tzurl.org/zoneinfo/Europe/London
X-LIC-LOCATION:Europe/London
BEGIN:DAYLIGHT
TZOFFSETFROM:+0000
TZOFFSETTO:+0100
TZNAME:BST
DTSTART:20230326T020000Z
RRULE:FREQ=YEARLY;BYMONTH=3;BYDAY=-1SU
END:DAYLIGHT
BEGIN:STANDARD
TZOFFSETFROM:+0100
TZOFFSETTO:+0000
TZNAME:GMT
DTSTART:20231029T020000Z
RRULE:FREQ=YEARLY;BYMONTH=10;BYDAY=-1SU
END:STANDARD
END:VTIMEZONE
BEGIN:VEVENT
SUMMARY:Real Time with Bill Maher 21x16 - Tristan Harris\, JamesKirc
	hick\, Matt Duss
DTSTAMP:20231008T091105Z
SEQUENCE:0
UID:169987-2-841ebed20eb198c4569419e99b7bf40a@themidnightzone.com
ORGANIZER;CN="Midnight":midnight@themidnightzone.com
DESCRIPTION:This week features a one-on-one interview with techethicist\
	,co-founder and executive director of the nonprofitorganization Center for
	 Humane Technology\, and a co-host ofthe podcast \"Your Undivided Attentio
	n\,\" Tristan Harris. Thisweek's panel discussion includes James Kirchick\
	, columnist forTablet Magazine\, writer-at-large for Air Mail\, and author
	 of\"Secret City: The Hidden History of *** Washington\;\" and MattDuss\, 
	executive vice president at the Center for InternationalPolicy and former 
	foreign policy advisor to Senator BernieSanders (I-VT) and president of th
	e Foundation for Middle EastPeace.
DTSTART:20231014T020000Z
DTEND:20231014T030000Z
END:VEVENT
END:VCALENDAR
