BEGIN:VCALENDAR
VERSION:2.0
PRODID:-//InvisionCommunity Events 4.7.23//EN
METHOD:PUBLISH
CALSCALE:GREGORIAN
REFRESH-INTERVAL:PT15M
X-PUBLISHED-TTL:PT15M
X-WR-CALNAME:At My TV
NAME:At My TV
BEGIN:VTIMEZONE
TZID:Europe/London
TZURL:http://tzurl.org/zoneinfo/Europe/London
X-LIC-LOCATION:Europe/London
BEGIN:DAYLIGHT
TZOFFSETFROM:+0000
TZOFFSETTO:+0100
TZNAME:BST
DTSTART:20230326T020000Z
RRULE:FREQ=YEARLY;BYMONTH=3;BYDAY=-1SU
END:DAYLIGHT
BEGIN:STANDARD
TZOFFSETFROM:+0100
TZOFFSETTO:+0000
TZNAME:GMT
DTSTART:20231029T020000Z
RRULE:FREQ=YEARLY;BYMONTH=10;BYDAY=-1SU
END:STANDARD
END:VTIMEZONE
BEGIN:VEVENT
SUMMARY:The Graham Norton Show 31x5 - Dame Judi Dench\, ArnoldSchwar
	zenegger\, Jack Whitehall\, Jay Blades\, Duran Duran
DTSTAMP:20231014T091105Z
SEQUENCE:0
UID:170356-2-841ebed20eb198c4569419e99b7bf40a@themidnightzone.com
ORGANIZER;CN="Midnight":midnight@themidnightzone.com
DESCRIPTION:Together on Graham's sofa this week: Dame Judi Dench\,discus
	sing her book Shakespeare: The Man Who Pays The Rent\,the Terminator himse
	lf\, Arnold Schwarzenegger\, promoting hisroad map for life\, Be Useful: S
	even Tools For Life\, topcomedian and actor Jack Whitehall and The Repair 
	Shop's JayBlades\, talking about his memoir Life Lessons. With music fromt
	he legendary Duran Duran\, performing their new single\, BlackMoonlight.
DTSTART:20231027T214000Z
DTEND:20231027T223000Z
END:VEVENT
END:VCALENDAR
