BEGIN:VCALENDAR
VERSION:2.0
PRODID:-//InvisionCommunity Events 4.7.23//EN
METHOD:PUBLISH
CALSCALE:GREGORIAN
REFRESH-INTERVAL:PT15M
X-PUBLISHED-TTL:PT15M
X-WR-CALNAME:At My TV
NAME:At My TV
BEGIN:VTIMEZONE
TZID:Europe/London
TZURL:http://tzurl.org/zoneinfo/Europe/London
X-LIC-LOCATION:Europe/London
BEGIN:DAYLIGHT
TZOFFSETFROM:+0000
TZOFFSETTO:+0100
TZNAME:BST
DTSTART:20230326T020000Z
RRULE:FREQ=YEARLY;BYMONTH=3;BYDAY=-1SU
END:DAYLIGHT
BEGIN:STANDARD
TZOFFSETFROM:+0100
TZOFFSETTO:+0000
TZNAME:GMT
DTSTART:20231029T020000Z
RRULE:FREQ=YEARLY;BYMONTH=10;BYDAY=-1SU
END:STANDARD
END:VTIMEZONE
BEGIN:VEVENT
SUMMARY:LEGO Masters 4x6 - Is It Brick?
DTSTAMP:20231020T091102Z
SEQUENCE:0
UID:170694-2-841ebed20eb198c4569419e99b7bf40a@themidnightzone.com
ORGANIZER;CN="Midnight":midnight@themidnightzone.com
DESCRIPTION:This week\, the builders will ransack a detective's office a
	ndleave with an item of their choice that they must replicateinto a one-to
	-one scale model. With just 10 hours to deceivethe eye\, the contestants m
	ust be ambitious with their builds\,pushing their limits to recreate compl
	ex details. In a surprisetwist\, LEGO Masters Season 3 Winner\, Stacey Roy
	\, must playdetective and spot which items are real and which are cleverly
	disguised brick facades.
DTSTART:20231103T010000Z
DTEND:20231103T020000Z
END:VEVENT
END:VCALENDAR
