BEGIN:VCALENDAR
VERSION:2.0
PRODID:-//InvisionCommunity Events 4.7.23//EN
METHOD:PUBLISH
CALSCALE:GREGORIAN
REFRESH-INTERVAL:PT15M
X-PUBLISHED-TTL:PT15M
X-WR-CALNAME:At My TV
NAME:At My TV
BEGIN:VTIMEZONE
TZID:Europe/London
TZURL:http://tzurl.org/zoneinfo/Europe/London
X-LIC-LOCATION:Europe/London
BEGIN:DAYLIGHT
TZOFFSETFROM:+0000
TZOFFSETTO:+0100
TZNAME:BST
DTSTART:20230326T020000Z
RRULE:FREQ=YEARLY;BYMONTH=3;BYDAY=-1SU
END:DAYLIGHT
BEGIN:STANDARD
TZOFFSETFROM:+0100
TZOFFSETTO:+0000
TZNAME:GMT
DTSTART:20231029T020000Z
RRULE:FREQ=YEARLY;BYMONTH=10;BYDAY=-1SU
END:STANDARD
END:VTIMEZONE
BEGIN:VEVENT
SUMMARY:Hells Kitchen (US) 22x6 - Fusion Confusion
DTSTAMP:20231020T091102Z
SEQUENCE:0
UID:170698-2-841ebed20eb198c4569419e99b7bf40a@themidnightzone.com
ORGANIZER;CN="Midnight":midnight@themidnightzone.com
DESCRIPTION:The Chefs go head-to-head in a soccer themed cuisine fusionc
	hallenge with legend\, Alexi Lalas. Can the chefs fuseJapanese\, French\, 
	Thai\, Italian and other cuisines withoutfalling flat? Legendary fusion ch
	ef\, Tony Messina\, will bethe judge of that. Afterwards the chefs compete
	 in a chaoticdinner service and attempt to impress NFL Hall-of-Famer EricD
	ickerson and actress and television host Melissa Rivers.
DTSTART:20231103T000000Z
DTEND:20231103T010000Z
END:VEVENT
END:VCALENDAR
