BEGIN:VCALENDAR
VERSION:2.0
PRODID:-//InvisionCommunity Events 4.7.23//EN
METHOD:PUBLISH
CALSCALE:GREGORIAN
REFRESH-INTERVAL:PT15M
X-PUBLISHED-TTL:PT15M
X-WR-CALNAME:At My TV
NAME:At My TV
BEGIN:VTIMEZONE
TZID:Europe/London
TZURL:http://tzurl.org/zoneinfo/Europe/London
X-LIC-LOCATION:Europe/London
BEGIN:DAYLIGHT
TZOFFSETFROM:+0000
TZOFFSETTO:+0100
TZNAME:BST
DTSTART:20230326T020000Z
RRULE:FREQ=YEARLY;BYMONTH=3;BYDAY=-1SU
END:DAYLIGHT
BEGIN:STANDARD
TZOFFSETFROM:+0100
TZOFFSETTO:+0000
TZNAME:GMT
DTSTART:20231029T020000Z
RRULE:FREQ=YEARLY;BYMONTH=10;BYDAY=-1SU
END:STANDARD
END:VTIMEZONE
BEGIN:VEVENT
SUMMARY:All Creatures Great and Small 4x6 - The Home Front
DTSTAMP:20231026T091100Z
SEQUENCE:0
UID:170995-2-841ebed20eb198c4569419e99b7bf40a@themidnightzone.com
ORGANIZER;CN="Midnight":midnight@themidnightzone.com
DESCRIPTION:In the final episode of the series\, Helen feels redundant a
	tSkeldale and a million miles from home. When Richard Aldersonseems to nee
	d help\, she returns to Heston Grange. Buriedfamily secrets threaten to te
	ar their relationship apart asRichard refuses to let her muck in on the fa
	rm. Helen noticesthat calf Smokey seems unwell and tries to help him\, but
	 itonly makes things worse with her dad.\n\n\n\nMrs Hall is blindsidedby H
	elen's plans and worries for Siegfried\, but knows she mustfollow through 
	on her decision\, however painful it may be foreveryone. Meanwhile\, altho
	ugh Gerald's beloved dog\, Rock\,needs veterinary help\, he is too worried
	 about the operation.Mrs Hall pushes him to do the right thing.\n\n\n\nAnd
	 Mrs Hall mustmake her final choice and let go of something special. Both 
	MrsHall and Helen are about to learn where they truly belong.
DTSTART:20231109T210000Z
DTEND:20231109T220000Z
END:VEVENT
END:VCALENDAR
