BEGIN:VCALENDAR
VERSION:2.0
PRODID:-//InvisionCommunity Events 4.7.23//EN
METHOD:PUBLISH
CALSCALE:GREGORIAN
REFRESH-INTERVAL:PT15M
X-PUBLISHED-TTL:PT15M
X-WR-CALNAME:At My TV
NAME:At My TV
BEGIN:VTIMEZONE
TZID:Europe/London
TZURL:http://tzurl.org/zoneinfo/Europe/London
X-LIC-LOCATION:Europe/London
BEGIN:DAYLIGHT
TZOFFSETFROM:+0000
TZOFFSETTO:+0100
TZNAME:BST
DTSTART:20230326T020000Z
RRULE:FREQ=YEARLY;BYMONTH=3;BYDAY=-1SU
END:DAYLIGHT
BEGIN:STANDARD
TZOFFSETFROM:+0100
TZOFFSETTO:+0000
TZNAME:GMT
DTSTART:20231029T020000Z
RRULE:FREQ=YEARLY;BYMONTH=10;BYDAY=-1SU
END:STANDARD
END:VTIMEZONE
BEGIN:VEVENT
SUMMARY:The Proof Is Out There 4x5 - Beastly Howls\, Holloman Air Fo
	rceBase UFO and the Cabin that Defies Gravity
DTSTAMP:20231028T091101Z
SEQUENCE:0
UID:171135-2-841ebed20eb198c4569419e99b7bf40a@themidnightzone.com
ORGANIZER;CN="Midnight":midnight@themidnightzone.com
DESCRIPTION:Is a photograph of a UFO hovering over Holloman Air Force Ba
	sein New Mexico confirmation that President Eisenhower had aTop-Secret mee
	ting with aliens there? Is a cabin built in asupposedly anomalous spot in 
	the Redwood Forests defying thelaws of gravity? What is the origin of frig
	htening howlsrecorded in Witset\, British Columbia? Tony Harris and his te
	amof experts dive into these claims to find the truth.
DTSTART:20231111T030400Z
DTEND:20231111T040400Z
END:VEVENT
END:VCALENDAR
