BEGIN:VCALENDAR
VERSION:2.0
PRODID:-//InvisionCommunity Events 4.7.23//EN
METHOD:PUBLISH
CALSCALE:GREGORIAN
REFRESH-INTERVAL:PT15M
X-PUBLISHED-TTL:PT15M
X-WR-CALNAME:At My TV
NAME:At My TV
BEGIN:VTIMEZONE
TZID:Europe/London
TZURL:http://tzurl.org/zoneinfo/Europe/London
X-LIC-LOCATION:Europe/London
BEGIN:DAYLIGHT
TZOFFSETFROM:+0000
TZOFFSETTO:+0100
TZNAME:BST
DTSTART:20230326T020000Z
RRULE:FREQ=YEARLY;BYMONTH=3;BYDAY=-1SU
END:DAYLIGHT
BEGIN:STANDARD
TZOFFSETFROM:+0100
TZOFFSETTO:+0000
TZNAME:GMT
DTSTART:20231029T020000Z
RRULE:FREQ=YEARLY;BYMONTH=10;BYDAY=-1SU
END:STANDARD
END:VTIMEZONE
BEGIN:VEVENT
SUMMARY:Masterchef: The Professionals 16x10 - Episode 10
DTSTAMP:20231102T091100Z
SEQUENCE:0
UID:171428-2-841ebed20eb198c4569419e99b7bf40a@themidnightzone.com
ORGANIZER;CN="Midnight":midnight@themidnightzone.com
DESCRIPTION:It's the last week of heats\, and another four ambitious che
	fsgo all out to impress Marcus\, Monica and Gregg as their racefor the tit
	le begins. First\, they must prove themselves in theinfamous Skills Test\,
	 followed by the Signature Menu roundwhich offers them a chance to put the
	ir own stamp on thecompetition.Up first is Monica's Skills Test\, and toni
	ght shechallenges two chefs to make crispy squid croquettes servedwith a g
	arlic mayonnaise. Preparing the squid from scratch isonly half the battle\
	, and only those who remain calm willstand any chance of delivering a perf
	ectly cooked seafood treatthat delivers a true taste sensation.The last tw
	o chefs aretasked by Marcus to make a sweetbread and caramelised oniontart
	 served with a meat stock vinaigrette. There can be noexcuses as\, with th
	e pastry case already provided\, Marcuswill expect every element to be ban
	g on the money. Tendersweetbreads\, rich\, succulent onions and a punchy d
	ressing -anything less will fall short.Finally\, the four chefs have onela
	st chance to win over the judges as they deliver theirSignature Menu – t
	wo courses that represent them in the bestpossible light\, and taste as go
	od as they look. Any mistakescould cost them their place in the competitio
	n.Only the bestchefs on the day will move forward to the last quarter-fina
	l asthe race for the MasterChef: The Professionals title continues.
DTSTART:20231113T210000Z
DTEND:20231113T220000Z
END:VEVENT
END:VCALENDAR
