BEGIN:VCALENDAR
VERSION:2.0
PRODID:-//InvisionCommunity Events 4.7.23//EN
METHOD:PUBLISH
CALSCALE:GREGORIAN
REFRESH-INTERVAL:PT15M
X-PUBLISHED-TTL:PT15M
X-WR-CALNAME:Pogdesign
NAME:Pogdesign
BEGIN:VTIMEZONE
TZID:Europe/London
TZURL:http://tzurl.org/zoneinfo/Europe/London
X-LIC-LOCATION:Europe/London
BEGIN:DAYLIGHT
TZOFFSETFROM:+0000
TZOFFSETTO:+0100
TZNAME:BST
DTSTART:20230326T020000Z
RRULE:FREQ=YEARLY;BYMONTH=3;BYDAY=-1SU
END:DAYLIGHT
BEGIN:STANDARD
TZOFFSETFROM:+0100
TZOFFSETTO:+0000
TZNAME:GMT
DTSTART:20231029T020000Z
RRULE:FREQ=YEARLY;BYMONTH=10;BYDAY=-1SU
END:STANDARD
END:VTIMEZONE
BEGIN:VEVENT
SUMMARY:The Crown S06E01 - \nPersona Non Grata
DTSTAMP:20231103T052008Z
SEQUENCE:0
UID:171445-3-841ebed20eb198c4569419e99b7bf40a@themidnightzone.com
ORGANIZER;CN="Midnight":midnight@themidnightzone.com
DESCRIPTION:As Princess Diana and the boys set off for St Tropez for aho
	liday courtesy of Mohamed Al Fayed\, Prince Charles advanceshis latest pla
	n to legitimise his relationship with Camilla inthe public eye: a glitteri
	ng fiftieth birthday party atHighgrove that he hopes the Queen will attend
	. Fayed\, too\, isin strategising mode. Unbeknownst to Diana\, he hopes to
	engineer a romance between the Princess and his son\, Dodi. Butwith a smal
	l complication: Dodi himself is already engaged tosomeone else.
DTSTART:20231116T235900Z
DTEND:20231117T005900Z
END:VEVENT
END:VCALENDAR
