BEGIN:VCALENDAR
VERSION:2.0
PRODID:-//InvisionCommunity Events 4.7.23//EN
METHOD:PUBLISH
CALSCALE:GREGORIAN
REFRESH-INTERVAL:PT15M
X-PUBLISHED-TTL:PT15M
X-WR-CALNAME:At My TV
NAME:At My TV
BEGIN:VTIMEZONE
TZID:Europe/London
TZURL:http://tzurl.org/zoneinfo/Europe/London
X-LIC-LOCATION:Europe/London
BEGIN:DAYLIGHT
TZOFFSETFROM:+0000
TZOFFSETTO:+0100
TZNAME:BST
DTSTART:20230326T020000Z
RRULE:FREQ=YEARLY;BYMONTH=3;BYDAY=-1SU
END:DAYLIGHT
BEGIN:STANDARD
TZOFFSETFROM:+0100
TZOFFSETTO:+0000
TZNAME:GMT
DTSTART:20231029T020000Z
RRULE:FREQ=YEARLY;BYMONTH=10;BYDAY=-1SU
END:STANDARD
END:VTIMEZONE
BEGIN:VEVENT
SUMMARY:The Lazarus Project 2x8 - Episode 8
DTSTAMP:20231105T091059Z
SEQUENCE:0
UID:171624-2-841ebed20eb198c4569419e99b7bf40a@themidnightzone.com
ORGANIZER;CN="Midnight":midnight@themidnightzone.com
DESCRIPTION:Things come to a head as missions\, agents\, and issues from
	the past and present collide in one epic confrontation. Georgeand the othe
	r Lazarus agents have just one chance to try andsave their own while fixin
	g the threeweek loop once and forall. However\, they know that if they suc
	ceed\, what they dowill change the future as they know it in ways they cou
	ld neverhave imagined. And is that what every member of the team reallywan
	ts?
DTSTART:20231115T110400Z
DTEND:20231115T115600Z
END:VEVENT
END:VCALENDAR
