BEGIN:VCALENDAR
VERSION:2.0
PRODID:-//InvisionCommunity Events 4.7.23//EN
METHOD:PUBLISH
CALSCALE:GREGORIAN
REFRESH-INTERVAL:PT15M
X-PUBLISHED-TTL:PT15M
X-WR-CALNAME:At My TV
NAME:At My TV
BEGIN:VTIMEZONE
TZID:Europe/London
TZURL:http://tzurl.org/zoneinfo/Europe/London
X-LIC-LOCATION:Europe/London
BEGIN:DAYLIGHT
TZOFFSETFROM:+0000
TZOFFSETTO:+0100
TZNAME:BST
DTSTART:20230326T020000Z
RRULE:FREQ=YEARLY;BYMONTH=3;BYDAY=-1SU
END:DAYLIGHT
BEGIN:STANDARD
TZOFFSETFROM:+0100
TZOFFSETTO:+0000
TZNAME:GMT
DTSTART:20231029T020000Z
RRULE:FREQ=YEARLY;BYMONTH=10;BYDAY=-1SU
END:STANDARD
END:VTIMEZONE
BEGIN:VEVENT
SUMMARY:The Lazarus Project 2x6 - Episode 6
DTSTAMP:20231105T091059Z
SEQUENCE:0
UID:171626-2-841ebed20eb198c4569419e99b7bf40a@themidnightzone.com
ORGANIZER;CN="Midnight":midnight@themidnightzone.com
DESCRIPTION:After successfully arriving in 2012\, George and the Lazarus
	team face their biggest challenge yet as they attempt to rescueJanet and r
	etrieve the time machine. Time is ticking - Wes hasbeen made aware of Dr G
	ray's and Janet's work – and she ishell-bent on destroying it. Unbeknown
	st to the team\, one oftheir own is onto them - and their mission is about
	 to take avery different turn…
DTSTART:20231115T092000Z
DTEND:20231115T101200Z
END:VEVENT
END:VCALENDAR
