BEGIN:VCALENDAR
VERSION:2.0
PRODID:-//InvisionCommunity Events 4.7.23//EN
METHOD:PUBLISH
CALSCALE:GREGORIAN
REFRESH-INTERVAL:PT15M
X-PUBLISHED-TTL:PT15M
X-WR-CALNAME:At My TV
NAME:At My TV
BEGIN:VTIMEZONE
TZID:Europe/London
TZURL:http://tzurl.org/zoneinfo/Europe/London
X-LIC-LOCATION:Europe/London
BEGIN:DAYLIGHT
TZOFFSETFROM:+0000
TZOFFSETTO:+0100
TZNAME:BST
DTSTART:20230326T020000Z
RRULE:FREQ=YEARLY;BYMONTH=3;BYDAY=-1SU
END:DAYLIGHT
BEGIN:STANDARD
TZOFFSETFROM:+0100
TZOFFSETTO:+0000
TZNAME:GMT
DTSTART:20231029T020000Z
RRULE:FREQ=YEARLY;BYMONTH=10;BYDAY=-1SU
END:STANDARD
END:VTIMEZONE
BEGIN:VEVENT
SUMMARY:The Lazarus Project 2x4 - Episode 4
DTSTAMP:20231105T091059Z
SEQUENCE:0
UID:171628-2-841ebed20eb198c4569419e99b7bf40a@themidnightzone.com
ORGANIZER;CN="Midnight":midnight@themidnightzone.com
DESCRIPTION:When the time machine doesn't work in the way they'd planned
	\,George and the other members of the Lazarus mission are leftstranded in 
	the wrong year – but could somebody be conspiringagainst them? As the te
	am work to fix the technology that willallow them to continue their missio
	n\, they find it impossibleto ignore the temptation to relive\, and maybe 
	even rewrite\,their past. Confronted with a number of Lazarus Projectsecre
	ts\, George and the team look for answers from the past inthe hope that th
	ey will fix the problems of the present.
DTSTART:20231115T073600Z
DTEND:20231115T082800Z
END:VEVENT
END:VCALENDAR
