BEGIN:VCALENDAR
VERSION:2.0
PRODID:-//InvisionCommunity Events 4.7.23//EN
METHOD:PUBLISH
CALSCALE:GREGORIAN
REFRESH-INTERVAL:PT15M
X-PUBLISHED-TTL:PT15M
X-WR-CALNAME:At My TV
NAME:At My TV
BEGIN:VTIMEZONE
TZID:Europe/London
TZURL:http://tzurl.org/zoneinfo/Europe/London
X-LIC-LOCATION:Europe/London
BEGIN:DAYLIGHT
TZOFFSETFROM:+0000
TZOFFSETTO:+0100
TZNAME:BST
DTSTART:20230326T020000Z
RRULE:FREQ=YEARLY;BYMONTH=3;BYDAY=-1SU
END:DAYLIGHT
BEGIN:STANDARD
TZOFFSETFROM:+0100
TZOFFSETTO:+0000
TZNAME:GMT
DTSTART:20231029T020000Z
RRULE:FREQ=YEARLY;BYMONTH=10;BYDAY=-1SU
END:STANDARD
END:VTIMEZONE
BEGIN:VEVENT
SUMMARY:Sherri 2x37 - Gerry Turner\, Chef Buddy Valastro
DTSTAMP:20231105T091059Z
SEQUENCE:0
UID:171636-2-841ebed20eb198c4569419e99b7bf40a@themidnightzone.com
ORGANIZER;CN="Midnight":midnight@themidnightzone.com
DESCRIPTION:Sherri gives her hilarious take on the currentheadlines!Stra
	ight from Bachelor Nation\, the first \"GoldenBachelor\" Gerry Turner give
	s Sherri all the details about hissearch for love.Celebrity baker Buddy Va
	lastro mixes up some ofhis favorite treats and tells us about his two seri
	es\,\"Legends of the Fork\" and \"Cake Dynasty\" on A&amp\;E.
DTSTART:20231110T150000Z
DTEND:20231110T160000Z
END:VEVENT
END:VCALENDAR
