BEGIN:VCALENDAR
VERSION:2.0
PRODID:-//InvisionCommunity Events 4.7.23//EN
METHOD:PUBLISH
CALSCALE:GREGORIAN
REFRESH-INTERVAL:PT15M
X-PUBLISHED-TTL:PT15M
X-WR-CALNAME:At My TV
NAME:At My TV
BEGIN:VTIMEZONE
TZID:Europe/London
TZURL:http://tzurl.org/zoneinfo/Europe/London
X-LIC-LOCATION:Europe/London
BEGIN:DAYLIGHT
TZOFFSETFROM:+0000
TZOFFSETTO:+0100
TZNAME:BST
DTSTART:20230326T020000Z
RRULE:FREQ=YEARLY;BYMONTH=3;BYDAY=-1SU
END:DAYLIGHT
BEGIN:STANDARD
TZOFFSETFROM:+0100
TZOFFSETTO:+0000
TZNAME:GMT
DTSTART:20231029T020000Z
RRULE:FREQ=YEARLY;BYMONTH=10;BYDAY=-1SU
END:STANDARD
END:VTIMEZONE
BEGIN:VEVENT
SUMMARY:Dateline NBC 255x37 - The End of the Affair
DTSTAMP:20231110T091059Z
SEQUENCE:0
UID:171960-2-841ebed20eb198c4569419e99b7bf40a@themidnightzone.com
ORGANIZER;CN="Midnight":midnight@themidnightzone.com
DESCRIPTION:After police discover the burned body of missing Miami manCa
	milo Salazar at the edge of the Florida Everglades\, the wifeof a local su
	permarket mogul comes forward to reveal a shockingsecret and possible lead
	.INTERVIEWS WITH: Family members\,Detectives Chris Villano and Doug McCoy
	\, Miami-Dade StateAttorney Katherine Fernandez Rundle\, prosecutors Gai
	lLevine and Justin Funck\, former Miami Herald reporter DavidOvalle\, re
	porter Christian Colon\, and others.
DTSTART:20231110T020000Z
DTEND:20231110T040000Z
END:VEVENT
END:VCALENDAR
