BEGIN:VCALENDAR
VERSION:2.0
PRODID:-//InvisionCommunity Events 4.7.23//EN
METHOD:PUBLISH
CALSCALE:GREGORIAN
REFRESH-INTERVAL:PT15M
X-PUBLISHED-TTL:PT15M
X-WR-CALNAME:At My TV
NAME:At My TV
BEGIN:VTIMEZONE
TZID:Europe/London
TZURL:http://tzurl.org/zoneinfo/Europe/London
X-LIC-LOCATION:Europe/London
BEGIN:DAYLIGHT
TZOFFSETFROM:+0000
TZOFFSETTO:+0100
TZNAME:BST
DTSTART:20230326T020000Z
RRULE:FREQ=YEARLY;BYMONTH=3;BYDAY=-1SU
END:DAYLIGHT
BEGIN:STANDARD
TZOFFSETFROM:+0100
TZOFFSETTO:+0000
TZNAME:GMT
DTSTART:20231029T020000Z
RRULE:FREQ=YEARLY;BYMONTH=10;BYDAY=-1SU
END:STANDARD
END:VTIMEZONE
BEGIN:VEVENT
SUMMARY:The Graham Norton Show 31x10 - Julianne Moore\, Ricky Gervai
	s\,Jamie Oliver\, Paapa Essiedu\, Olivia Dean
DTSTAMP:20231124T091105Z
SEQUENCE:0
UID:172607-2-841ebed20eb198c4569419e99b7bf40a@themidnightzone.com
ORGANIZER;CN="Midnight":midnight@themidnightzone.com
DESCRIPTION:Among the guests on Graham's sofa are Oscar-winner JulianneM
	oore\, starring in Todd Haynes' critically-acclaimed MayDecember\, comedy 
	superstar Ricky Gervais\, talking about hisstand-up special Armageddon\, c
	elebrity chef and campaignerJamie Oliver\, whose latest book is 5 Ingredie
	ntsMediterranean\, and actor Paapa Essiedu (Gangs of London\, TheLazarus P
	roject)\, starring in Richard Curtis's latest festivefilm\, Genie. With mu
	sic from Mercury Award-nominated OliviaDean\, performing the single Dive.
DTSTART:20231208T224000Z
DTEND:20231208T233000Z
END:VEVENT
END:VCALENDAR
