BEGIN:VCALENDAR
VERSION:2.0
PRODID:-//InvisionCommunity Events 4.7.23//EN
METHOD:PUBLISH
CALSCALE:GREGORIAN
REFRESH-INTERVAL:PT15M
X-PUBLISHED-TTL:PT15M
X-WR-CALNAME:At My TV
NAME:At My TV
BEGIN:VTIMEZONE
TZID:Europe/London
TZURL:http://tzurl.org/zoneinfo/Europe/London
X-LIC-LOCATION:Europe/London
BEGIN:DAYLIGHT
TZOFFSETFROM:+0000
TZOFFSETTO:+0100
TZNAME:BST
DTSTART:20230326T020000Z
RRULE:FREQ=YEARLY;BYMONTH=3;BYDAY=-1SU
END:DAYLIGHT
BEGIN:STANDARD
TZOFFSETFROM:+0100
TZOFFSETTO:+0000
TZNAME:GMT
DTSTART:20231029T020000Z
RRULE:FREQ=YEARLY;BYMONTH=10;BYDAY=-1SU
END:STANDARD
END:VTIMEZONE
BEGIN:VEVENT
SUMMARY:Mountain Men: Alaska 1x3 - Grizzly Standoff
DTSTAMP:20231124T091105Z
SEQUENCE:0
UID:172638-2-841ebed20eb198c4569419e99b7bf40a@themidnightzone.com
ORGANIZER;CN="Midnight":midnight@themidnightzone.com
DESCRIPTION:In the Interior\, Marty Meierotto puts the stalk on a group 
	ofcaribou\, but the hunt takes a wild turn when a family ofgrizzly bears c
	omes charging toward his camp. On KodiakIsland\, Mike Horstman hikes throu
	gh bear infested country to aremote outpost cabin to hunt fox. In the Alas
	ka Range\, LauroEklund ramps up training and conditioning of his sled dogs
	 forupcoming races\; Bret Bohn and Ivy O'Guinn are on a mission toshoot a 
	bull moose and harvest a year's worth of meat. And onPrince of Wales Islan
	d\, Daniel Peters brings home a surf 'n'turf combo by finally taking down 
	a deer on land\, and haulingin an abundance of shrimp and fish at sea.
DTSTART:20231201T010000Z
DTEND:20231201T023000Z
END:VEVENT
END:VCALENDAR
