BEGIN:VCALENDAR
VERSION:2.0
PRODID:-//InvisionCommunity Events 4.7.23//EN
METHOD:PUBLISH
CALSCALE:GREGORIAN
REFRESH-INTERVAL:PT15M
X-PUBLISHED-TTL:PT15M
X-WR-CALNAME:At My TV
NAME:At My TV
BEGIN:VTIMEZONE
TZID:Europe/London
TZURL:http://tzurl.org/zoneinfo/Europe/London
X-LIC-LOCATION:Europe/London
BEGIN:DAYLIGHT
TZOFFSETFROM:+0000
TZOFFSETTO:+0100
TZNAME:BST
DTSTART:20230326T020000Z
RRULE:FREQ=YEARLY;BYMONTH=3;BYDAY=-1SU
END:DAYLIGHT
BEGIN:STANDARD
TZOFFSETFROM:+0100
TZOFFSETTO:+0000
TZNAME:GMT
DTSTART:20231029T020000Z
RRULE:FREQ=YEARLY;BYMONTH=10;BYDAY=-1SU
END:STANDARD
END:VTIMEZONE
BEGIN:VEVENT
SUMMARY:Dateline NBC 255x41 - The Ultimate Betrayal
DTSTAMP:20231130T091108Z
SEQUENCE:0
UID:172871-2-841ebed20eb198c4569419e99b7bf40a@themidnightzone.com
ORGANIZER;CN="Midnight":midnight@themidnightzone.com
DESCRIPTION:After Tahereh Ghassemi disappears from the Louisiana home sh
	eshares with her adult son\, detectives discover that she'drecently come i
	nto a great deal of money. The investigationreveals an astonishing plot wi
	th internationalimplications.INTERVIEWS WITH: Hamed Ghassemi\, leadinvesti
	gator Todd Morris\, East Baton Rouge Assistant DistrictAttorney Dana Cummi
	ngs\, and others.
DTSTART:20231201T030000Z
DTEND:20231201T050000Z
END:VEVENT
END:VCALENDAR
