BEGIN:VCALENDAR
VERSION:2.0
PRODID:-//InvisionCommunity Events 4.7.23//EN
METHOD:PUBLISH
CALSCALE:GREGORIAN
REFRESH-INTERVAL:PT15M
X-PUBLISHED-TTL:PT15M
X-WR-CALNAME:At My TV
NAME:At My TV
BEGIN:VTIMEZONE
TZID:Europe/London
TZURL:http://tzurl.org/zoneinfo/Europe/London
X-LIC-LOCATION:Europe/London
BEGIN:DAYLIGHT
TZOFFSETFROM:+0000
TZOFFSETTO:+0100
TZNAME:BST
DTSTART:20230326T020000Z
RRULE:FREQ=YEARLY;BYMONTH=3;BYDAY=-1SU
END:DAYLIGHT
BEGIN:STANDARD
TZOFFSETFROM:+0100
TZOFFSETTO:+0000
TZNAME:GMT
DTSTART:20231029T020000Z
RRULE:FREQ=YEARLY;BYMONTH=10;BYDAY=-1SU
END:STANDARD
END:VTIMEZONE
BEGIN:VEVENT
SUMMARY:The Jennifer Hudson Show 2x48 - Matthew McConaughey
DTSTAMP:20231203T091106Z
SEQUENCE:0
UID:173001-2-841ebed20eb198c4569419e99b7bf40a@themidnightzone.com
ORGANIZER;CN="Midnight":midnight@themidnightzone.com
DESCRIPTION:Matthew McConaughey discusses hischildren's book \"Just Beca
	use\"and Pantalones Organic Tequila.Jennifer welcomes It's BiggerThan Us f
	ounder Tyrone Nance from Inglewood\, California\,whose nonprofit\, establi
	shed in 2020\, provides solution-basedresources to underserved families in
	 South Los Angeles.
DTSTART:20231208T160000Z
DTEND:20231208T170000Z
END:VEVENT
END:VCALENDAR
