BEGIN:VCALENDAR
VERSION:2.0
PRODID:-//InvisionCommunity Events 4.7.23//EN
METHOD:PUBLISH
CALSCALE:GREGORIAN
REFRESH-INTERVAL:PT15M
X-PUBLISHED-TTL:PT15M
X-WR-CALNAME:Pogdesign
NAME:Pogdesign
BEGIN:VTIMEZONE
TZID:Europe/London
TZURL:http://tzurl.org/zoneinfo/Europe/London
X-LIC-LOCATION:Europe/London
BEGIN:DAYLIGHT
TZOFFSETFROM:+0000
TZOFFSETTO:+0100
TZNAME:BST
DTSTART:20230326T020000Z
RRULE:FREQ=YEARLY;BYMONTH=3;BYDAY=-1SU
END:DAYLIGHT
BEGIN:STANDARD
TZOFFSETFROM:+0100
TZOFFSETTO:+0000
TZNAME:GMT
DTSTART:20231029T020000Z
RRULE:FREQ=YEARLY;BYMONTH=10;BYDAY=-1SU
END:STANDARD
END:VTIMEZONE
BEGIN:VEVENT
SUMMARY:The Gilded Age S02E08 - \nIn Terms of Winning and Losing
DTSTAMP:20231204T052005Z
SEQUENCE:0
UID:173017-3-841ebed20eb198c4569419e99b7bf40a@themidnightzone.com
ORGANIZER;CN="Midnight":midnight@themidnightzone.com
DESCRIPTION:While the staff question their future in the van Rhijnhouseh
	old\, Jack receives welcome news about his patent. Afterscoring a victory 
	for the local schools\, Peggy considers herfuture at the NY Globe. Later\,
	 Marian confesses her truefeelings to Dashiell - and Bertha and Mrs. Astor
	 make theirfinal moves in the opera war.
DTSTART:20231217T210000Z
DTEND:20231217T220000Z
END:VEVENT
END:VCALENDAR
