BEGIN:VCALENDAR
VERSION:2.0
PRODID:-//InvisionCommunity Events 4.7.23//EN
METHOD:PUBLISH
CALSCALE:GREGORIAN
REFRESH-INTERVAL:PT15M
X-PUBLISHED-TTL:PT15M
X-WR-CALNAME:At My TV
NAME:At My TV
BEGIN:VTIMEZONE
TZID:Europe/London
TZURL:http://tzurl.org/zoneinfo/Europe/London
X-LIC-LOCATION:Europe/London
BEGIN:DAYLIGHT
TZOFFSETFROM:+0000
TZOFFSETTO:+0100
TZNAME:BST
DTSTART:20230326T020000Z
RRULE:FREQ=YEARLY;BYMONTH=3;BYDAY=-1SU
END:DAYLIGHT
BEGIN:STANDARD
TZOFFSETFROM:+0100
TZOFFSETTO:+0000
TZNAME:GMT
DTSTART:20231029T020000Z
RRULE:FREQ=YEARLY;BYMONTH=10;BYDAY=-1SU
END:STANDARD
END:VTIMEZONE
BEGIN:VEVENT
SUMMARY:Whose Line Is It Anyway? (US) 20x17 - Greg Proops 10
DTSTAMP:20231206T091108Z
SEQUENCE:0
UID:173143-2-841ebed20eb198c4569419e99b7bf40a@themidnightzone.com
ORGANIZER;CN="Midnight":midnight@themidnightzone.com
DESCRIPTION:Hosted by comedian Aisha Tyler\, cast members Ryan Stiles\,W
	ayne Brady and Colin Mochrie\, along with guest Greg Proops\,put their com
	edic skills to the test through a series ofspontaneous improv games that a
	re prompted only by random ideassupplied by the studio audience. The four 
	performers must usethe little information they have and their wild imagina
	tions todepict different characters and an array of scenes\, as well asper
	form songs. After each round of improvisation\, Aisha willdole out points 
	to our four performers and declare a winner atthe end of every episode.
DTSTART:20231220T020000Z
DTEND:20231220T023000Z
END:VEVENT
END:VCALENDAR
