BEGIN:VCALENDAR
VERSION:2.0
PRODID:-//InvisionCommunity Events 4.7.23//EN
METHOD:PUBLISH
CALSCALE:GREGORIAN
REFRESH-INTERVAL:PT15M
X-PUBLISHED-TTL:PT15M
X-WR-CALNAME:Pogdesign
NAME:Pogdesign
BEGIN:VTIMEZONE
TZID:Europe/London
TZURL:http://tzurl.org/zoneinfo/Europe/London
X-LIC-LOCATION:Europe/London
BEGIN:DAYLIGHT
TZOFFSETFROM:+0000
TZOFFSETTO:+0100
TZNAME:BST
DTSTART:20230326T020000Z
RRULE:FREQ=YEARLY;BYMONTH=3;BYDAY=-1SU
END:DAYLIGHT
BEGIN:STANDARD
TZOFFSETFROM:+0100
TZOFFSETTO:+0000
TZNAME:GMT
DTSTART:20231029T020000Z
RRULE:FREQ=YEARLY;BYMONTH=10;BYDAY=-1SU
END:STANDARD
END:VTIMEZONE
BEGIN:VEVENT
SUMMARY:Vera S12E05 - \nThe Rising Tide
DTSTAMP:20231216T065803Z
SEQUENCE:0
UID:173465-3-841ebed20eb198c4569419e99b7bf40a@themidnightzone.com
ORGANIZER;CN="Midnight":midnight@themidnightzone.com
DESCRIPTION:It may be the run up to Christmas but this doesn't mean that
	DCI Vera Stanhope can slow down and enjoy a bit of Secret Santaand some mi
	nce pies - far from it as the apparent suicide ofRick Kelsall sees Vera's 
	boss insist that she personally take alook into the case as it's a high pr
	ofile death on Holy Islandand that's her home stomping ground. Vera soon w
	orks out thatthere is more to Rick's death than initially suspected\, he w
	asmurdered.Rick had been attending a reunion with old friends\, aritual th
	ey have all stayed true to for over forty years. Hadone of those at the re
	union been holding a grudge for all theseyears and finally snapped? Is his
	 death related to the scandalthat has knocked his career sideways? Could t
	he motivation begreed? Is someone out for revenge? Or is it something much
	 moreobscure? And how far will the killer…or killers go to covertheir tr
	acks? Could Vera\, or her team also be in danger andwill they all see Chri
	stmas?
DTSTART:20231226T150000Z
DTEND:20231226T163000Z
END:VEVENT
END:VCALENDAR
