BEGIN:VCALENDAR
VERSION:2.0
PRODID:-//InvisionCommunity Events 4.7.23//EN
METHOD:PUBLISH
CALSCALE:GREGORIAN
REFRESH-INTERVAL:PT15M
X-PUBLISHED-TTL:PT15M
X-WR-CALNAME:At My TV
NAME:At My TV
BEGIN:VTIMEZONE
TZID:Europe/London
TZURL:http://tzurl.org/zoneinfo/Europe/London
X-LIC-LOCATION:Europe/London
BEGIN:DAYLIGHT
TZOFFSETFROM:+0000
TZOFFSETTO:+0100
TZNAME:BST
DTSTART:20240331T020000Z
RRULE:FREQ=YEARLY;BYMONTH=3;BYDAY=-1SU
END:DAYLIGHT
BEGIN:STANDARD
TZOFFSETFROM:+0100
TZOFFSETTO:+0000
TZNAME:GMT
DTSTART:20241027T020000Z
RRULE:FREQ=YEARLY;BYMONTH=10;BYDAY=-1SU
END:STANDARD
END:VTIMEZONE
BEGIN:VEVENT
SUMMARY:Worst Cooks in America 27x1 - Spoiled Rotten: Spoon Fed
DTSTAMP:20231225T104913Z
SEQUENCE:0
UID:173724-2-841ebed20eb198c4569419e99b7bf40a@themidnightzone.com
ORGANIZER;CN="Midnight":midnight@themidnightzone.com
DESCRIPTION:In the supersized premiere\, a fresh group of recruits enter
	culinary boot camp – and these competitors are spoiled with acapital 
	‘S.'  Accustomed to dining out and delivery apps\,these sixteen recruit
	s have never successfully cooked a meal intheir lives.  Anne and Tiffany 
	are ready to transform thesecoddled kitchen novices into competent home co
	oks\, but firstthey need to see what they are working with.  To give them
	 afirsthand look at their cooking skills or lack thereof\, therecruits mus
	t recreate their favorite takeout dish.   For themain dish cook\, the co
	mpetitors must replicate Anne andTiffany's take on a steak and potato dinn
	er. Then teams areselected\, and the two least successful recruits are sen
	t home.
DTSTART:20240108T010000Z
DTEND:20240108T020000Z
END:VEVENT
END:VCALENDAR
