BEGIN:VCALENDAR
VERSION:2.0
PRODID:-//InvisionCommunity Events 4.7.23//EN
METHOD:PUBLISH
CALSCALE:GREGORIAN
REFRESH-INTERVAL:PT15M
X-PUBLISHED-TTL:PT15M
X-WR-CALNAME:At My TV
NAME:At My TV
BEGIN:VTIMEZONE
TZID:Europe/London
TZURL:http://tzurl.org/zoneinfo/Europe/London
X-LIC-LOCATION:Europe/London
BEGIN:DAYLIGHT
TZOFFSETFROM:+0000
TZOFFSETTO:+0100
TZNAME:BST
DTSTART:20240331T020000Z
RRULE:FREQ=YEARLY;BYMONTH=3;BYDAY=-1SU
END:DAYLIGHT
BEGIN:STANDARD
TZOFFSETFROM:+0100
TZOFFSETTO:+0000
TZNAME:GMT
DTSTART:20241027T020000Z
RRULE:FREQ=YEARLY;BYMONTH=10;BYDAY=-1SU
END:STANDARD
END:VTIMEZONE
BEGIN:VEVENT
SUMMARY:Hells Kitchen (US) 22x13 - #HellishHangover
DTSTAMP:20231229T104913Z
SEQUENCE:0
UID:173834-2-841ebed20eb198c4569419e99b7bf40a@themidnightzone.com
ORGANIZER;CN="Midnight":midnight@themidnightzone.com
DESCRIPTION:After a wild night\, it is back to the kitchen\, where thech
	efs learn that influence can make or break their future whenthey prepare t
	o impress Chef Ramsey's 100 million social mediafollowers in the presentat
	ion challenge. During dinnerservice\, the chefs attempt to impress guests 
	with renownedinfluence including\, actors Kate Flannery\, Mary LynnRajskub
	\, singer Gavin Rossdale and RuPaul's Drag Race winnerBob the Drag Queen. 
	After many mistakes on each station\,Gordon makes a shocking decision.
DTSTART:20240112T010000Z
DTEND:20240112T020000Z
END:VEVENT
END:VCALENDAR
