BEGIN:VCALENDAR
VERSION:2.0
PRODID:-//InvisionCommunity Events 4.7.23//EN
METHOD:PUBLISH
CALSCALE:GREGORIAN
REFRESH-INTERVAL:PT15M
X-PUBLISHED-TTL:PT15M
X-WR-CALNAME:At My TV
NAME:At My TV
BEGIN:VTIMEZONE
TZID:Europe/London
TZURL:http://tzurl.org/zoneinfo/Europe/London
X-LIC-LOCATION:Europe/London
BEGIN:DAYLIGHT
TZOFFSETFROM:+0000
TZOFFSETTO:+0100
TZNAME:BST
DTSTART:20240331T020000Z
RRULE:FREQ=YEARLY;BYMONTH=3;BYDAY=-1SU
END:DAYLIGHT
BEGIN:STANDARD
TZOFFSETFROM:+0100
TZOFFSETTO:+0000
TZNAME:GMT
DTSTART:20241027T020000Z
RRULE:FREQ=YEARLY;BYMONTH=10;BYDAY=-1SU
END:STANDARD
END:VTIMEZONE
BEGIN:VEVENT
SUMMARY:The Madame Blanc Mysteries 3x2 - Duel
DTSTAMP:20231229T104913Z
SEQUENCE:0
UID:173842-2-841ebed20eb198c4569419e99b7bf40a@themidnightzone.com
ORGANIZER;CN="Midnight":midnight@themidnightzone.com
DESCRIPTION:It's early morning in Sainte Victoire and Gloria lets her do
	gDouglas out\, unwittingly leading him to the discovery of alifeless body 
	with a fencing foil protruding from his chest\,and in possession of an ext
	remely rare diamond encrustedcufflink.Caron\, sensing a peculiar case\, as
	ks Jean to examinethe ominous foil— which seems to be a 19th-century Epe
	e duCombat. Eager for clues\, Jean insists on scrutinising theconfiscated 
	swords back at the police station.Dom arrives at LaCouronne to find it clo
	sed. He's dragged inside by a concernedJudith and Jeremy who explain that 
	the previous pub owners raninto financial troubles and they have secretly 
	owned it for afew years now.Back at the police station\, Caron reveals tha
	tthe stolen epee swords were part of a theft from a localmuseum. The victi
	m\, George Allaire\, once a big-time localgangster\, had taken a turn into
	 petty theft. The mysterydeepens as they ponder his demise and the inexpli
	cablepossession of the expensive cufflink?Jean shows Charlie andSimone a p
	hoto of the cufflink\, prompting Simone to admit tocrafting a copy for a m
	ysterious and potentially dangerousclient.We soon discover that it is not 
	just any murder but astory of honour and the last-ever duel to take place 
	in SainteVictoire.
DTSTART:20240111T210000Z
DTEND:20240111T220000Z
END:VEVENT
END:VCALENDAR
