BEGIN:VCALENDAR
VERSION:2.0
PRODID:-//InvisionCommunity Events 4.7.23//EN
METHOD:PUBLISH
CALSCALE:GREGORIAN
REFRESH-INTERVAL:PT15M
X-PUBLISHED-TTL:PT15M
X-WR-CALNAME:At My TV
NAME:At My TV
BEGIN:VTIMEZONE
TZID:Europe/London
TZURL:http://tzurl.org/zoneinfo/Europe/London
X-LIC-LOCATION:Europe/London
BEGIN:DAYLIGHT
TZOFFSETFROM:+0000
TZOFFSETTO:+0100
TZNAME:BST
DTSTART:20240331T020000Z
RRULE:FREQ=YEARLY;BYMONTH=3;BYDAY=-1SU
END:DAYLIGHT
BEGIN:STANDARD
TZOFFSETFROM:+0100
TZOFFSETTO:+0000
TZNAME:GMT
DTSTART:20241027T020000Z
RRULE:FREQ=YEARLY;BYMONTH=10;BYDAY=-1SU
END:STANDARD
END:VTIMEZONE
BEGIN:VEVENT
SUMMARY:Tamron Hall 5x77 - Life's Twists and Turns
DTSTAMP:20240106T104917Z
SEQUENCE:0
UID:174090-2-841ebed20eb198c4569419e99b7bf40a@themidnightzone.com
ORGANIZER;CN="Midnight":midnight@themidnightzone.com
DESCRIPTION:DAYTIME EXCLUSIVE: Former politician ANDREW GILLUM and power
	fulvoices in today's culture ANGELA RYE and TIFFANY CROSS join usto talk a
	bout their hot\, new\, no-holds-barred podcast\,\"Native Land Pod.\" Plus\
	, attorney and father GARY SCHILDHORNtells his terrifying story of how a p
	hone call from whatsounded like his son almost scammed him out of thousand
	s. Hiswarning about AI. Plus\, GRAMMY®-nominated R&amp\;B singerEMILY KIN
	G performs \"This Year\" from her new album\, \"SpecialOccasions.\"
DTSTART:20240111T050000Z
DTEND:20240111T060000Z
END:VEVENT
END:VCALENDAR
