BEGIN:VCALENDAR
VERSION:2.0
PRODID:-//InvisionCommunity Events 4.7.23//EN
METHOD:PUBLISH
CALSCALE:GREGORIAN
REFRESH-INTERVAL:PT15M
X-PUBLISHED-TTL:PT15M
X-WR-CALNAME:At My TV
NAME:At My TV
BEGIN:VTIMEZONE
TZID:Europe/London
TZURL:http://tzurl.org/zoneinfo/Europe/London
X-LIC-LOCATION:Europe/London
BEGIN:DAYLIGHT
TZOFFSETFROM:+0000
TZOFFSETTO:+0100
TZNAME:BST
DTSTART:20240331T020000Z
RRULE:FREQ=YEARLY;BYMONTH=3;BYDAY=-1SU
END:DAYLIGHT
BEGIN:STANDARD
TZOFFSETFROM:+0100
TZOFFSETTO:+0000
TZNAME:GMT
DTSTART:20241027T020000Z
RRULE:FREQ=YEARLY;BYMONTH=10;BYDAY=-1SU
END:STANDARD
END:VTIMEZONE
BEGIN:VEVENT
SUMMARY:Tamron Hall 5x74 - Date 'Em Til You Hate ‘Em
DTSTAMP:20240106T104917Z
SEQUENCE:0
UID:174113-2-841ebed20eb198c4569419e99b7bf40a@themidnightzone.com
ORGANIZER;CN="Midnight":midnight@themidnightzone.com
DESCRIPTION:Do you chase the spark or lean into the slow burn? It's the 
	hotdating debate\, and we're having it with professionalmatchmaker and sta
	r of Netflix's \"Jewish Matchmaking\" ALEEZABEN SHALOM\, the host of \"The
	 Date Brazen\" podcast LILY WOMBLEand senior associate editor of The Atlan
	tic FAITH HILL\, whosearticle on the topic got everyone talking! Plus\, Ta
	mron talksto a group of singles to get their take on the sometimes wilddat
	ing scene they are navigating.
DTSTART:20240108T050000Z
DTEND:20240108T060000Z
END:VEVENT
END:VCALENDAR
