BEGIN:VCALENDAR
VERSION:2.0
PRODID:-//InvisionCommunity Events 4.7.23//EN
METHOD:PUBLISH
CALSCALE:GREGORIAN
REFRESH-INTERVAL:PT15M
X-PUBLISHED-TTL:PT15M
X-WR-CALNAME:At My TV
NAME:At My TV
BEGIN:VTIMEZONE
TZID:Europe/London
TZURL:http://tzurl.org/zoneinfo/Europe/London
X-LIC-LOCATION:Europe/London
BEGIN:DAYLIGHT
TZOFFSETFROM:+0000
TZOFFSETTO:+0100
TZNAME:BST
DTSTART:20240331T020000Z
RRULE:FREQ=YEARLY;BYMONTH=3;BYDAY=-1SU
END:DAYLIGHT
BEGIN:STANDARD
TZOFFSETFROM:+0100
TZOFFSETTO:+0000
TZNAME:GMT
DTSTART:20241027T020000Z
RRULE:FREQ=YEARLY;BYMONTH=10;BYDAY=-1SU
END:STANDARD
END:VTIMEZONE
BEGIN:VEVENT
SUMMARY:The Drew Barrymore Show 4x63 - Zanna Roberts Rassi
DTSTAMP:20240127T105658Z
SEQUENCE:0
UID:174966-2-841ebed20eb198c4569419e99b7bf40a@themidnightzone.com
ORGANIZER;CN="Midnight":midnight@themidnightzone.com
DESCRIPTION:Drew and Ross Mathews are covering today's hottest stories l
	ikereports that MRI scans on dogs reveal they think of humans asfamily and
	 the group of moms that started a group to help eachother out called the \
	"hot mess express.\" Then\, it's Drew Crewto the Rescue with style expert 
	Zanna Roberts Rassi and datingexpert Damona Hoffman helping a deserving vi
	ewer with a firstdate makeover and sharing advice for regaining datingconf
	idence. Drew and Ross Mathews are covering the newssunny-side up with sto
	ries like the advice Julia Robertsrevealed she'd give her younger self and
	 the report that onelazy day a week can have huge benefits. Etiquette expe
	rt SaraJane Ho is teaching how to navigate tricky dating situations. 
DTSTART:20240201T050000Z
DTEND:20240201T060000Z
END:VEVENT
END:VCALENDAR
