BEGIN:VCALENDAR
VERSION:2.0
PRODID:-//InvisionCommunity Events 4.7.23//EN
METHOD:PUBLISH
CALSCALE:GREGORIAN
REFRESH-INTERVAL:PT15M
X-PUBLISHED-TTL:PT15M
X-WR-CALNAME:At My TV
NAME:At My TV
BEGIN:VTIMEZONE
TZID:Europe/London
TZURL:http://tzurl.org/zoneinfo/Europe/London
X-LIC-LOCATION:Europe/London
BEGIN:DAYLIGHT
TZOFFSETFROM:+0000
TZOFFSETTO:+0100
TZNAME:BST
DTSTART:20240331T020000Z
RRULE:FREQ=YEARLY;BYMONTH=3;BYDAY=-1SU
END:DAYLIGHT
BEGIN:STANDARD
TZOFFSETFROM:+0100
TZOFFSETTO:+0000
TZNAME:GMT
DTSTART:20241027T020000Z
RRULE:FREQ=YEARLY;BYMONTH=10;BYDAY=-1SU
END:STANDARD
END:VTIMEZONE
BEGIN:VEVENT
SUMMARY:Call The Midwife 13x6 - Episode 6
DTSTAMP:20240128T105658Z
SEQUENCE:0
UID:174996-2-841ebed20eb198c4569419e99b7bf40a@themidnightzone.com
ORGANIZER;CN="Midnight":midnight@themidnightzone.com
DESCRIPTION:As summer draws to a close in Poplar\, the pupil midwives ar
	ecoming to the end of their training on the district\, andprepare to sit t
	heir final exams and viva. Joyce is amethodical planner and can keep calm 
	under fire\, but Rosalindis becoming more and more anxious. It takes an un
	usualintervention by Nurse Crane and a sensitive case to seeRosalind put h
	er nerves behind her.When two little boys arefound abandoned in the local 
	church\, triggering a nationwidehunt for their mother\, Cyril\, as child w
	elfare officer\, isfaced with his toughest challenge to date. When their h
	eavilypregnant mother is found\, Cyril must make the difficultdecision of 
	whether the children will be taken into fostercare.Matthew's financial woe
	s come to a head when he issummoned to a board meeting with his mother abo
	ut the state ofthe business. Following a number of unwise business decisio
	nsand investments\, that almost bring the company to its knees\,it's time 
	Matthew finally comes clean with Trixie.Elsewhere\,Dr Turner is alarmed by
	 local moneylender and matriarch GladysBell's swollen ascetic abdomen. He 
	promptly refers her to StCuthbert's\, where a biopsy diagnoses mesotheliom
	a of theperitoneum - an asbestos-related cancer in its advanced stages.Whe
	n Gladys refuses treatment\, an unlikely ally gives her foodfor thought.Me
	anwhile\, Sister Veronica and Shelagh spearhead asummer singing event.
DTSTART:20240211T200000Z
DTEND:20240211T210000Z
END:VEVENT
END:VCALENDAR
