BEGIN:VCALENDAR
VERSION:2.0
PRODID:-//InvisionCommunity Events 4.7.23//EN
METHOD:PUBLISH
CALSCALE:GREGORIAN
REFRESH-INTERVAL:PT15M
X-PUBLISHED-TTL:PT15M
X-WR-CALNAME:At My TV
NAME:At My TV
BEGIN:VTIMEZONE
TZID:Europe/London
TZURL:http://tzurl.org/zoneinfo/Europe/London
X-LIC-LOCATION:Europe/London
BEGIN:DAYLIGHT
TZOFFSETFROM:+0000
TZOFFSETTO:+0100
TZNAME:BST
DTSTART:20240331T020000Z
RRULE:FREQ=YEARLY;BYMONTH=3;BYDAY=-1SU
END:DAYLIGHT
BEGIN:STANDARD
TZOFFSETFROM:+0100
TZOFFSETTO:+0000
TZNAME:GMT
DTSTART:20241027T020000Z
RRULE:FREQ=YEARLY;BYMONTH=10;BYDAY=-1SU
END:STANDARD
END:VTIMEZONE
BEGIN:VEVENT
SUMMARY:NOVA 51x12 - Hunt for the Oldest DNA
DTSTAMP:20240209T105654Z
SEQUENCE:0
UID:175530-2-841ebed20eb198c4569419e99b7bf40a@themidnightzone.com
ORGANIZER;CN="Midnight":midnight@themidnightzone.com
DESCRIPTION:For decades\, scientists have tried to unlock the secrets of
	ancient DNA. But life's genetic blueprint is incrediblyfragile\, and resea
	rchers have struggled to find DNA in fossilsthat could survive millions of
	 years. Then\, one maverickscientist had the controversial idea to look fo
	r DNA not infossils or frozen ancient tissue – but in dirt. Join the hun
	tas scientists decipher the oldest DNA ever found\, and revealfor the firs
	t time the genes of long-extinct creatures thatonce thrived in a warm\, lu
	sh Arctic.
DTSTART:20240222T020000Z
DTEND:20240222T030000Z
END:VEVENT
END:VCALENDAR
