BEGIN:VCALENDAR
VERSION:2.0
PRODID:-//InvisionCommunity Events 4.7.23//EN
METHOD:PUBLISH
CALSCALE:GREGORIAN
REFRESH-INTERVAL:PT15M
X-PUBLISHED-TTL:PT15M
X-WR-CALNAME:At My TV
NAME:At My TV
BEGIN:VTIMEZONE
TZID:Europe/London
TZURL:http://tzurl.org/zoneinfo/Europe/London
X-LIC-LOCATION:Europe/London
BEGIN:DAYLIGHT
TZOFFSETFROM:+0000
TZOFFSETTO:+0100
TZNAME:BST
DTSTART:20240331T020000Z
RRULE:FREQ=YEARLY;BYMONTH=3;BYDAY=-1SU
END:DAYLIGHT
BEGIN:STANDARD
TZOFFSETFROM:+0100
TZOFFSETTO:+0000
TZNAME:GMT
DTSTART:20241027T020000Z
RRULE:FREQ=YEARLY;BYMONTH=10;BYDAY=-1SU
END:STANDARD
END:VTIMEZONE
BEGIN:VEVENT
SUMMARY:The Jennifer Hudson Show 2x93 - Drew & Jonathan Scott\, Dave
	 &Jenny Marrs\, Lil Jon
DTSTAMP:20240216T105652Z
SEQUENCE:0
UID:175903-2-841ebed20eb198c4569419e99b7bf40a@themidnightzone.com
ORGANIZER;CN="Midnight":midnight@themidnightzone.com
DESCRIPTION:HGTV Week continues with Drew &amp\;amp: Jonathan Scott (HGT
	V's\"Celebrity IOU\").Dave &amp\; Jenny Marrs (HGTV's \"Fixer toFabulous\"
	 and \"Fixer to Fabulous: Italiano\") stop by.Lil Jondiscusses his HGTV se
	ries \"Lil Jon Wants to Do What?\"Jenniferwelcomes Dr. Theresa Price from 
	Walnut\, CA\, the Founder andCEO of the National College Resources Foundat
	ion and the BlackCollege Expo.  The organization's mission is to reduce h
	ighschool dropout rate and increase enrollment to degree and/orcertificate
	 programs among students in underserved andunderrepresented communities. F
	or 25 years\, Dr. Price hashelped over 600\,000 students of color get into
	 college and hashelped secure over  billion in scholarships.
DTSTART:20240223T160000Z
DTEND:20240223T170000Z
END:VEVENT
END:VCALENDAR
