BEGIN:VCALENDAR
VERSION:2.0
PRODID:-//InvisionCommunity Events 4.7.23//EN
METHOD:PUBLISH
CALSCALE:GREGORIAN
REFRESH-INTERVAL:PT15M
X-PUBLISHED-TTL:PT15M
X-WR-CALNAME:At My TV
NAME:At My TV
BEGIN:VTIMEZONE
TZID:Europe/London
TZURL:http://tzurl.org/zoneinfo/Europe/London
X-LIC-LOCATION:Europe/London
BEGIN:DAYLIGHT
TZOFFSETFROM:+0000
TZOFFSETTO:+0100
TZNAME:BST
DTSTART:20240331T020000Z
RRULE:FREQ=YEARLY;BYMONTH=3;BYDAY=-1SU
END:DAYLIGHT
BEGIN:STANDARD
TZOFFSETFROM:+0100
TZOFFSETTO:+0000
TZNAME:GMT
DTSTART:20241027T020000Z
RRULE:FREQ=YEARLY;BYMONTH=10;BYDAY=-1SU
END:STANDARD
END:VTIMEZONE
BEGIN:VEVENT
SUMMARY:Traffic Cops 12x11 - Episode 11
DTSTAMP:20240217T105651Z
SEQUENCE:0
UID:175938-2-841ebed20eb198c4569419e99b7bf40a@themidnightzone.com
ORGANIZER;CN="Midnight":midnight@themidnightzone.com
DESCRIPTION:Officers clamp down on dangerous and illegal drivers\, fromt
	hose under the influence of drink or drugs to those withoutinsurance or a 
	valid licence. Derbyshire's road crime team goeson a high-speed pursuit of
	 a reckless disqualified driver whofails to stop\, while police respond to
	 a call from a member ofpublic about a crash in which two cars have collid
	ed head on\,with one on its roof with people trapped inside.
DTSTART:20240226T200000Z
DTEND:20240226T205800Z
END:VEVENT
END:VCALENDAR
